BEGIN:VCALENDAR
VERSION:2.0
PRODID:-//ChamberMaster//Event Calendar 2.0//EN
METHOD:PUBLISH
X-PUBLISHED-TTL:P3D
REFRESH-INTERVAL:P3D
CALSCALE:GREGORIAN
BEGIN:VEVENT
DTSTART:20200422T013000Z
DTEND:20200422T023000Z
X-MICROSOFT-CDO-ALLDAYEVENT:FALSE
SUMMARY:Video Conference Call with U.S. Ambassador to Thailand Michael G. DeSombre
DESCRIPTION:
X-ALT-DESC;FMTTYPE=text/html:
LOCATION:
UID:e.9078.8173
SEQUENCE:3
DTSTAMP:20260424T093546Z
URL:http://usasean.memberzone.com/events/details/video-conference-call-with-u-s-ambassador-to-thailand-michael-g-desombre-8173
END:VEVENT

END:VCALENDAR
