BEGIN:VCALENDAR
VERSION:2.0
PRODID:-//ChamberMaster//Event Calendar 2.0//EN
METHOD:PUBLISH
X-PUBLISHED-TTL:P3D
REFRESH-INTERVAL:P3D
CALSCALE:GREGORIAN
BEGIN:VEVENT
DTSTART:20130516T010000Z
DTEND:20130516T020000Z
X-MICROSOFT-CDO-ALLDAYEVENT:FALSE
SUMMARY:USTR Good Regulatory Practice Workshop Informational Call with Christine Brown\, USTR
DESCRIPTION:USTR is currently seeking input and participation for a workshop on Good Regulatory Practice that it will host in conjunction with the National Standards Bureau (BSN) in Jakarta from June 20-21\, 2013.\n\n	 \n\n	Christine Brown from USTR will be available to answer any questions on Wednesday May 15th at 9pm US EST or Thursday morning at 9am Singapore time\, 8am Jakarta time. \n\n	 \n\n	Please see the attached working agenda for more details. USTR is currently seeking input from the private sector and would like to hear from senior executives interested in participating or taking on a speaking role.\n\n	 \n\n	For questions please contact Alexandra at astuart@usasean.org
X-ALT-DESC;FMTTYPE=text/html:<div>\n	USTR is currently seeking input and participation for a workshop on Good Regulatory Practice that it will host in conjunction with the National Standards Bureau (BSN) in <b>Jakarta from June 20-21\, 2013.</b></div>\n<div>\n	&nbsp\;</div>\n<div>\n	<b>Christine Brown</b> from USTR will be available to answer any questions on <b>Wednesday May 15th at 9pm US EST or Thursday morning at 9am Singapore time\, 8am Jakarta time.&nbsp\;</b></div>\n<div>\n	&nbsp\;</div>\n<div>\n	Please see the attached&nbsp\;<a href="http://cloud.chambermaster.com/userfiles/UserFiles/chambers/9078/File/draftagendaGoodRegulatoryPractice8May2013.pdf">working agenda</a>&nbsp\;for more details. USTR is currently seeking input from the private sector and would like to hear from senior executives interested in participating or taking on a speaking role.</div>\n<div>\n	&nbsp\;</div>\n<div>\n	For questions please contact Alexandra at <a href="mailto:astuart@usasean.org?subject=questions%20about%20USTR%20GRP%20workshop">astuart@usasean.org</a></div>\n
LOCATION:Conference Call
UID:e.9078.781
SEQUENCE:3
DTSTAMP:20260422T003521Z
URL:http://usasean.memberzone.com/events/details/ustr-good-regulatory-practice-workshop-informational-call-with-christine-brown-ustr-05-15-2013-781
END:VEVENT

END:VCALENDAR
