BEGIN:VCALENDAR
VERSION:2.0
PRODID:-//ChamberMaster//Event Calendar 2.0//EN
METHOD:PUBLISH
X-PUBLISHED-TTL:P3D
REFRESH-INTERVAL:P3D
CALSCALE:GREGORIAN
BEGIN:VEVENT
DTSTART:20140422T113000Z
DTEND:20140422T130000Z
X-MICROSOFT-CDO-ALLDAYEVENT:FALSE
SUMMARY:USTR Breakfast Discussion in Jakarta
DESCRIPTION:We are pleased to invite you to a special breakfast discussion with Christine Brown\, Director of Southeast Asia & Pacific Affairs\, Office of the United States Trade Representative.  Christine Brown's bio can be found here.\n\n\n\nAttendees will receive USTR's perspective on trade related barriers in Indonesia and steps USTR is taking to improve the US-Indonesia trade relationship.  There will be an opportunity to ask questions and raise specific trade related issues affecting your companies' operations in Indonesia.\n\n\n\nUSTR recently issued its annual National Trade Estimate report on barriers to trade in foreign markets. The report highlighted a number of trade related issues affecting our members' businesses in Indonesia and can be found here.
X-ALT-DESC;FMTTYPE=text/html:<span><span style="font-family: arial\,sans-serif\;"><span style="font-size: 12pt\;">We are pleased to invite you to a special breakfast discussion with Christine Brown\,&nbsp\;Director of Southeast Asia &amp\; Pacific Affairs\, Office of the United States Trade Representative. &nbsp\;Christine Brown&#39\;s bio can be found <a href="http://cloud.chambermaster.com/userfiles/UserFiles/chambers/9078/File/ChristineBrown-UpdateBio.pdf">here</a>.</span></span></span><br />\n<br />\n<span style="font-family: arial\,sans-serif\;"><span style="font-size: 12pt\;"><span>Attendees will receive USTR&#39\;s perspective on trade related barriers in Indonesia and steps USTR is taking to improve the US-Indonesia trade relationship. &nbsp\;There will be an opportunity to ask questions and raise specific trade related issues affecting your companies&#39\; operations in Indonesia.</span></span></span><br />\n<br />\n<span><span style="font-family: arial\,sans-serif\;"><span style="font-size: 12pt\;">USTR recently issued its annual National Trade Estimate report on barriers to trade in foreign markets. The report highlighted a number of trade related issues affecting our members&#39\; businesses in Indonesia and can be found <a href="http://cloud.chambermaster.com/userfiles/UserFiles/chambers/9078/File/2014NTEReportonFTBIndonesia.pdf">here</a>.</span></span></span>
LOCATION:Venue details will be provided upon registration
UID:e.9078.1121
SEQUENCE:3
DTSTAMP:20260420T174214Z
URL:http://usasean.memberzone.com/events/details/ustr-breakfast-discussion-in-jakarta-04-22-2014-1121
END:VEVENT

END:VCALENDAR
