BEGIN:VCALENDAR
VERSION:2.0
PRODID:-//ChamberMaster//Event Calendar 2.0//EN
METHOD:PUBLISH
X-PUBLISHED-TTL:P3D
REFRESH-INTERVAL:P3D
CALSCALE:GREGORIAN
BEGIN:VEVENT
DTSTART:20211027T120000Z
DTEND:20211027T130000Z
X-MICROSOFT-CDO-ALLDAYEVENT:FALSE
SUMMARY:USAID/USABC Briefing on Regional Initiatives
DESCRIPTION:Please join the US-ASEAN Business Council for a briefing on USAID initiatives in Southeast Asia. This briefing will include information on the way that USAID works with the private sector\, the regional role USAID plays in in the Indo-Pacific\, Corporate Clean Energy Alliance\, activities around enhancing equality in energy for Southeast Asia\, Mekong Sustainable Manufacturing Alliance\, Green Invest Asia\, and CTIP-Asia activities\, Digital Asia Accelerator\, and exploration around the regional inclusive digital economy.\n\n\n\nFeaturing remarks by:\n\nCraig Hart\, Deputy Assistant Administrator for East Asia and the Pacific\n\nSteve Olive\, Director of the Regional Development Mission for Asia\n\nAmanda Van den Dool\, Energy Team Lead\, Regional Environment Office\n\nRoopa Karia\, Deputy Director\, Regional Environment Office\n\nChristopher Moore\, Private Sector Engagement Advisor
X-ALT-DESC;FMTTYPE=text/html:<span style="font-size:14px\;"><span style="font-family:tahoma\;">Please join the US-ASEAN Business Council for a briefing on USAID initiatives in Southeast Asia. This briefing will include information on the way that USAID works with the private sector\, the regional role USAID plays in in the Indo-Pacific\, Corporate Clean Energy Alliance\, activities around enhancing equality in energy for Southeast Asia\,&nbsp\;Mekong Sustainable Manufacturing Alliance\, Green Invest Asia\, and CTIP-Asia activities\, Digital Asia Accelerator\, and exploration around the regional inclusive digital economy.<br />\n<br />\n<strong>Featuring remarks by</strong>:</span></span><br />\n<span style="font-family:arial\,sans-serif\;"><span style="font-size:11.0pt\;"><span style="font-size:14px\;"><span style="font-family:tahoma\;"><a href="https://www.usaid.gov/who-we-are/organization/craig-hart"><span style="color:#1155CC\;">Craig Hart</span></a>\, Deputy Assistant Administrator for East Asia and the Pacific<br />\n<a href="https://www.usaid.gov/who-we-are/organization/steve-olive"><span style="color:#1155CC\;">Steve Olive</span></a>\, Director of the Regional Development Mission for Asia<br />\nAmanda Van den Dool\, Energy Team Lead\, Regional Environment Office<br />\nRoopa Karia\, Deputy Director\, Regional Environment Office<br />\nChristopher Moore\, Private Sector Engagement Advisor</span></span></span></span>
LOCATION:
UID:e.9078.8620
SEQUENCE:3
DTSTAMP:20260423T031052Z
URL:http://usasean.memberzone.com/events/details/usaid-usabc-briefing-on-regional-initiatives-8620
END:VEVENT

END:VCALENDAR
