BEGIN:VCALENDAR
VERSION:2.0
PRODID:-//ChamberMaster//Event Calendar 2.0//EN
METHOD:PUBLISH
X-PUBLISHED-TTL:P3D
REFRESH-INTERVAL:P3D
CALSCALE:GREGORIAN
BEGIN:VEVENT
DTSTART:20130308T163000Z
DTEND:20130308T190000Z
X-MICROSOFT-CDO-ALLDAYEVENT:FALSE
SUMMARY:USABC-SBF Trans-Pacific Partnership Luncheon Discussion
DESCRIPTION:The purpose of this discussion is to create a platform for both business and government to exchange perspectives on perceptions and expectations of the real commercial value of the TPP to the local business community\, from small to big enterprises\, across industries. While the discussion will apply to all the 11 participating countries\; however\, it is also very much focused on ASEAN and U.S. interests. Due to very limited seats\, registration will be on a first-come first-served basis. For expressions of interest to participate\, please contact Ira Sugita at isugita@usasean.org by Monday\, March 4.
X-ALT-DESC;FMTTYPE=text/html:The purpose of this discussion is to create a platform for both business and government to exchange perspectives on perceptions and expectations of the real commercial value of the TPP to the local business community\, from small to big enterprises\, across industries. While the discussion will apply to all the 11 participating countries\; however\, it is also very much focused on ASEAN and U.S. interests. Due to very limited seats\, registration will be on a first-come first-served basis. For expressions of interest to participate\, please contact Ira Sugita at isugita@usasean.org by Monday\, March 4.
LOCATION:Grand Copthorne Waterfront Hotel 392 Havelock Road\, Singapore 169663
UID:e.9078.716
SEQUENCE:3
DTSTAMP:20260422T061349Z
URL:http://usasean.memberzone.com/events/details/usabc-sbf-trans-pacific-partnership-luncheon-discussion-03-08-2013-716
END:VEVENT

END:VCALENDAR
