BEGIN:VCALENDAR
VERSION:2.0
PRODID:-//ChamberMaster//Event Calendar 2.0//EN
METHOD:PUBLISH
X-PUBLISHED-TTL:P3D
REFRESH-INTERVAL:P3D
CALSCALE:GREGORIAN
BEGIN:VEVENT
DTSTART;VALUE=DATE:20121217
DTEND;VALUE=DATE:20121220
TRANSP:TRANSPARENT
X-MICROSOFT-CDO-ALLDAYEVENT:TRUE
SUMMARY:USABC Regional Staff Offsite
DESCRIPTION:USABC Regional Staff Offsite
X-ALT-DESC;FMTTYPE=text/html:USABC Regional Staff Offsite
LOCATION:Jakarta
UID:e.9078.667
SEQUENCE:3
DTSTAMP:20260424T130345Z
URL:http://usasean.memberzone.com/events/details/usabc-regional-staff-offsite-12-17-2012-667
END:VEVENT

END:VCALENDAR
