BEGIN:VCALENDAR
VERSION:2.0
PRODID:-//ChamberMaster//Event Calendar 2.0//EN
METHOD:PUBLISH
X-PUBLISHED-TTL:P3D
REFRESH-INTERVAL:P3D
CALSCALE:GREGORIAN
BEGIN:VEVENT
DTSTART:20240521T003000Z
DTEND:20240521T090000Z
X-MICROSOFT-CDO-ALLDAYEVENT:FALSE
SUMMARY:USABC Panel at the IPBF
DESCRIPTION:The United States government\, in partnership with the Government of the Philippines\, is sponsoring the sixth Indo-Pacific Business Forum (IPBF) on May 21\, 2024.  Government and business leaders from the United States\, the Philippines\, and across the Indo-Pacific will exchange ideas\, explore regional government and business partnerships\, and discuss commercial opportunities.
X-ALT-DESC;FMTTYPE=text/html:<span style="font-family: &quot\;Open Sans&quot\;\, Arial\, sans-serif\; font-size: 16px\; letter-spacing: -0.2px\;">The United States government\, in partnership with the Government of the Philippines\, is sponsoring the sixth Indo-Pacific Business Forum (IPBF) on May 21\, 2024.&nbsp\; Government and business leaders from the United States\, the Philippines\, and across the Indo-Pacific will exchange ideas\, explore regional government and business partnerships\, and discuss commercial opportunities.</span>
LOCATION:Manila\, Phillipines
UID:e.9078.9293
SEQUENCE:3
DTSTAMP:20260422T090803Z
URL:http://usasean.memberzone.com/events/details/usabc-panel-at-the-ipbf-9293
END:VEVENT

END:VCALENDAR
