BEGIN:VCALENDAR
VERSION:2.0
PRODID:-//ChamberMaster//Event Calendar 2.0//EN
METHOD:PUBLISH
X-PUBLISHED-TTL:P3D
REFRESH-INTERVAL:P3D
CALSCALE:GREGORIAN
BEGIN:VEVENT
DTSTART;VALUE=DATE:20120709
DTEND;VALUE=DATE:20120811
TRANSP:TRANSPARENT
X-MICROSOFT-CDO-ALLDAYEVENT:TRUE
SUMMARY:USABC - 2012 Senior Executives Business Mission to Vietnam\; Myanmar - Jul 9 2012
DESCRIPTION:
X-ALT-DESC;FMTTYPE=text/html:
LOCATION:
UID:e.9078.574
SEQUENCE:3
DTSTAMP:20260424T201158Z
URL:http://usasean.memberzone.com/events/details/usabc-2012-senior-executives-business-mission-to-vietnam-myanmar-jul-9-2012-07-09-2012-574
END:VEVENT

END:VCALENDAR
