BEGIN:VCALENDAR
VERSION:2.0
PRODID:-//ChamberMaster//Event Calendar 2.0//EN
METHOD:PUBLISH
X-PUBLISHED-TTL:P3D
REFRESH-INTERVAL:P3D
CALSCALE:GREGORIAN
BEGIN:VEVENT
DTSTART:20230511T010000Z
DTEND:20230511T023000Z
X-MICROSOFT-CDO-ALLDAYEVENT:FALSE
SUMMARY:US Treasury Dialogue on Digital Economy and Cross Border Data Flows
DESCRIPTION:The upcoming IPEF negotiating round will be held in Singapore May 8-15\, 2023. U.S. Treasury is bringing technical-level staff to IPEF for negotiations on financial sector equities\, including cross-border data flows\, digital trade\, and domestic regulation. The U.S.-ASEAN Business Council is organizing a roundtable discussion for Treasury's financial services negotiators to discuss members' financial sector priorities in the IPEF region\, cross border data issues\, and developments in the cloud services and financial services space.
X-ALT-DESC;FMTTYPE=text/html:<span style="font-family:times new roman\,serif\;"><span style="font-size:12pt\;">The upcoming IPEF negotiating round will be held in Singapore May 8-15\, 2023. U.S. Treasury is bringing technical-level staff to IPEF for negotiations on financial sector equities\, including cross-border data flows\, digital trade\, and domestic regulation. The U.S.-ASEAN Business Council is organizing a roundtable discussion for Treasury&rsquo\;s financial services negotiators to discuss members&rsquo\; financial sector priorities in the IPEF region\, cross border data issues\, and developments in the cloud services and financial services space.</span></span>
LOCATION:Salesforce Office Address: 5 Temasek Boulevard\, #13-01 Suntec Tower Five\, 038985
UID:e.9078.9015
SEQUENCE:3
DTSTAMP:20260421T123621Z
URL:http://usasean.memberzone.com/events/details/us-treasury-dialogue-on-digital-economy-and-cross-border-data-flows-9015
END:VEVENT

END:VCALENDAR
