BEGIN:VCALENDAR
VERSION:2.0
PRODID:-//ChamberMaster//Event Calendar 2.0//EN
METHOD:PUBLISH
X-PUBLISHED-TTL:P3D
REFRESH-INTERVAL:P3D
CALSCALE:GREGORIAN
BEGIN:VEVENT
DTSTART:20230504T013000Z
DTEND:20230504T043500Z
X-MICROSOFT-CDO-ALLDAYEVENT:FALSE
SUMMARY:US-ASEAN Virtual Workshop on Cybersecurity Standards & Conformance to Support Digital Trade in ASEAN
DESCRIPTION:The Council is pleased to invite you to the US-ASEAN Workshop on Cybersecurity Standards & Conformance to Support Digital Trade in ASEAN.\n\n\n\nThis virtual workshop is initiated as a result of the Council's engagements with the ASEAN Consultative Committee on Standards and Quality's (ACCSQ) and the Digital Trade Standards and Conformance Working Group (DTSCWG)\, and as a follow up to the the US-ABC Whitepaper on Cybersecurity Standards and Conformance to Support Digital Trade in ASEAN\n\n\n\nThe workshop aims to provide an in-depth review of the recommended cybersecurity standards and best practices from the Whitepaper for the ACCSQ'S and the DTSCWG's consideration to identify any trainings and technical assistance necessary to adopt\, implement\, and harmonize across ASEAN Member States.
X-ALT-DESC;FMTTYPE=text/html:<br />\n<span style="font-family:arial\;"><span style="font-size:14px\;">The Council is pleased to invite you to the US-ASEAN Workshop on Cybersecurity Standards &amp\; Conformance to Support Digital Trade in ASEAN.<br />\n<br />\nThis virtual workshop is initiated as a result of the Council&rsquo\;s engagements with the ASEAN Consultative Committee on Standards and Quality&rsquo\;s (ACCSQ) and the Digital Trade Standards and Conformance Working Group (DTSCWG)\, and as a follow up to the the US-ABC Whitepaper on Cybersecurity Standards and Conformance to Support Digital Trade in ASEAN<br />\n<br />\nThe workshop aims to provide an in-depth review of the recommended cybersecurity standards and best practices from the Whitepaper for the ACCSQ&rsquo\;S and the DTSCWG&rsquo\;s consideration to identify any trainings and technical assistance necessary to adopt\, implement\, and harmonize across ASEAN Member States.</span></span>
LOCATION:Virtual Register Here: usasean.zoom.us/meeting/register/tZIqf-GtrjkiG9Tt-ub2V_Kpz6QJ4N1CrYXj
UID:e.9078.8974
SEQUENCE:3
DTSTAMP:20260421T123859Z
URL:http://usasean.memberzone.com/events/details/us-asean-virtual-workshop-on-cybersecurity-standards-conformance-to-support-digital-trade-in-asean-8974
END:VEVENT

END:VCALENDAR
