BEGIN:VCALENDAR
VERSION:2.0
PRODID:-//ChamberMaster//Event Calendar 2.0//EN
METHOD:PUBLISH
X-PUBLISHED-TTL:P3D
REFRESH-INTERVAL:P3D
CALSCALE:GREGORIAN
BEGIN:VEVENT
DTSTART:20230918T150000Z
DTEND:20230918T173000Z
X-MICROSOFT-CDO-ALLDAYEVENT:FALSE
SUMMARY:[US-ASEAN] San Francisco Business Forum with Vietnam Prime Minister Pham Minh Chinh
DESCRIPTION:On the heel of President Joe Biden's recent visit to Vietnam to announce the US   Vietnam Strategic Comprehensive Partnership with a focus on investment in innovation\, science and technology\, the US-ASEAN Business Council and the Vietnam Initiative at Indiana University are organizing the Vietnam - US Business Forum with His Excellency Pham Minh Chinh\, Prime Minister of Vietnam.
X-ALT-DESC;FMTTYPE=text/html:<span style="color: rgb(33\, 33\, 33)\; font-family: arial\; font-size: 16px\;">On the heel of President Joe Biden&rsquo\;s recent visit to Vietnam to announce the US &ndash\; Vietnam Strategic Comprehensive Partnership with a focus on investment in innovation\, science and technology\, the US-ASEAN Business Council and the Vietnam Initiative at Indiana University are organizing the Vietnam - US Business Forum with&nbsp\;</span><strong style="color: rgb(33\, 33\, 33)\; font-family: arial\; font-size: 16px\;">His Excellency</strong><span style="color: rgb(33\, 33\, 33)\; font-family: arial\; font-size: 16px\;">&nbsp\;</span><strong style="color: rgb(33\, 33\, 33)\; font-family: arial\; font-size: 16px\;">Pham Minh Chinh\, Prime Minister of Vietnam.</strong>
LOCATION:Autodesk Gallery The Landmark\, One Market Street\, Floor 2\, San Francisco\, California\, 94105
UID:e.9078.9149
SEQUENCE:3
DTSTAMP:20260421T193539Z
URL:http://usasean.memberzone.com/events/details/us-asean-san-francisco-business-forum-with-vietnam-prime-minister-pham-minh-chinh-9149
END:VEVENT

END:VCALENDAR
