BEGIN:VCALENDAR
VERSION:2.0
PRODID:-//ChamberMaster//Event Calendar 2.0//EN
METHOD:PUBLISH
X-PUBLISHED-TTL:P3D
REFRESH-INTERVAL:P3D
CALSCALE:GREGORIAN
BEGIN:VEVENT
DTSTART:20240717T010000Z
DTEND:20240717T020000Z
X-MICROSOFT-CDO-ALLDAYEVENT:FALSE
SUMMARY:[US-ASEAN] DEMIND 2024 and Cybersecurity Workshop Planning Call#1
DESCRIPTION:The Council is pleased to invite you to Planning Call#1 of the Digital Economy Mission to Indonesia 2024 and the Cybersecurity Workshop. During the call\, we will share more information about the Mission\, including the context\, objectives\, proposed engagement\, and other logistical information.\n\n\n\nThe Digital Economy Mission to Indonesia 2024 (DEMIND 2024) is scheduled for August 27-29\, 2024. On the sidelines of the Mission\, the Council also plans to organize the Cybersecurity Workshop titled "Workshop on Advancing a Cybersecure Digital Domain Through Industry Co-creation" on August 29\, 2024.\n\n\n\nFor information about the Mission\, please contact Minh Vu (mvu@usasean.org) and Bella Afifa (safifa@usasean.org). For information about the Cybersecurity Workshop\, please contact Jileen Yong (jyong@usasean.org).
X-ALT-DESC;FMTTYPE=text/html:The Council is pleased to invite you to Planning Call#1 of the Digital Economy Mission to Indonesia 2024 and the Cybersecurity Workshop. During the call\, we will share more information about the Mission\, including the context\, objectives\, proposed engagement\, and other logistical information.<br />\n<br />\nThe Digital Economy Mission to Indonesia 2024 (DEMIND 2024) is scheduled for August 27-29\, 2024. On the sidelines of the Mission\, the Council also plans to organize the Cybersecurity Workshop titled &quot\;Workshop on Advancing a Cybersecure Digital Domain Through Industry Co-creation&quot\; on August 29\, 2024.<br />\n<br />\nFor information about the Mission\, please contact Minh Vu (mvu@usasean.org) and Bella Afifa (safifa@usasean.org). For information about the Cybersecurity Workshop\, please contact Jileen Yong (jyong@usasean.org).
LOCATION:Virtual
UID:e.9078.9324
SEQUENCE:3
DTSTAMP:20260422T122906Z
URL:http://usasean.memberzone.com/events/details/us-asean-demind-2024-and-cybersecurity-workshop-planning-call-1-9324
END:VEVENT

END:VCALENDAR
