BEGIN:VCALENDAR
VERSION:2.0
PRODID:-//ChamberMaster//Event Calendar 2.0//EN
METHOD:PUBLISH
X-PUBLISHED-TTL:P3D
REFRESH-INTERVAL:P3D
CALSCALE:GREGORIAN
BEGIN:VEVENT
DTSTART:20140304T134500Z
DTEND:20140304T160000Z
X-MICROSOFT-CDO-ALLDAYEVENT:FALSE
SUMMARY:US-ASEAN Business Alliance for Competitive SMEs Launch
DESCRIPTION:MOU Signing Between US-AID and US-ABC
X-ALT-DESC;FMTTYPE=text/html:MOU Signing Between US-AID and US-ABC
LOCATION:The Pierce Room The Willard Hotel 1401 Pennsylvania Ave NW Washington D.C.
UID:e.9078.1061
SEQUENCE:3
DTSTAMP:20260420T155015Z
URL:http://usasean.memberzone.com/events/details/us-asean-business-alliance-for-competitive-smes-launch-03-04-2014-1061
END:VEVENT

END:VCALENDAR
