BEGIN:VCALENDAR
VERSION:2.0
PRODID:-//ChamberMaster//Event Calendar 2.0//EN
METHOD:PUBLISH
X-PUBLISHED-TTL:P3D
REFRESH-INTERVAL:P3D
CALSCALE:GREGORIAN
BEGIN:VEVENT
DTSTART:20231020T010000Z
DTEND:20231020T020000Z
X-MICROSOFT-CDO-ALLDAYEVENT:FALSE
SUMMARY:[US-ASEAN] 2023 Digital Economy Mission to Vietnam Planning Call#1
DESCRIPTION:The Council is pleased to invite you to Planning Call#1 of the 2023 Digital Economy Mission to Vietnam. During the call\, we will share more information about the Mission\, including the context\, objectives\, proposed engagement\, and other logistical information.
X-ALT-DESC;FMTTYPE=text/html:The Council is pleased to invite you to Planning Call#1 of the 2023 Digital Economy Mission to Vietnam. During the call\, we will share more information about the Mission\, including the context\, objectives\, proposed engagement\, and other logistical information.
LOCATION:Virtual
UID:e.9078.9182
SEQUENCE:3
DTSTAMP:20260421T160841Z
URL:http://usasean.memberzone.com/events/details/us-asean-2023-digital-economy-mission-to-vietnam-planning-call-1-9182
END:VEVENT

END:VCALENDAR
