BEGIN:VCALENDAR
VERSION:2.0
PRODID:-//ChamberMaster//Event Calendar 2.0//EN
METHOD:PUBLISH
X-PUBLISHED-TTL:P3D
REFRESH-INTERVAL:P3D
CALSCALE:GREGORIAN
BEGIN:VEVENT
DTSTART:20220304T010000Z
DTEND:20220304T023000Z
X-MICROSOFT-CDO-ALLDAYEVENT:FALSE
SUMMARY:[US-ASEAN] 2022 Vietnam Business Mission Second Planning Call
DESCRIPTION:The Council is pleased to invite you to the second planning call for the 2022 Vietnam Business Mission\, scheduled for March 8-10.\n\nPlease register for the Mission using this link https://www.usasean.org/mission/registration\n\nFor any questions or support\, please contact Minh Vu (mvu@usasean.org)
X-ALT-DESC;FMTTYPE=text/html:<span style="color: rgb(68\, 68\, 68)\; font-family: Arial\, Helvetica\, sans-serif\; font-size: 16px\;">The Council is pleased to invite you to the second planning call for the 2022 Vietnam Business Mission\, scheduled for March 8-10.</span><br style="box-sizing: border-box\; color: rgb(68\, 68\, 68)\; font-family: Arial\, Helvetica\, sans-serif\; font-size: 16px\;" />\n<span style="color: rgb(68\, 68\, 68)\; font-family: Arial\, Helvetica\, sans-serif\; font-size: 16px\;">Please register for the Mission using this link&nbsp\;https://www.usasean.org/mission/registration</span><br style="box-sizing: border-box\; color: rgb(68\, 68\, 68)\; font-family: Arial\, Helvetica\, sans-serif\; font-size: 16px\;" />\n<span style="color: rgb(68\, 68\, 68)\; font-family: Arial\, Helvetica\, sans-serif\; font-size: 16px\;">For any questions or support\, please contact Minh Vu (mvu@usasean.org)</span>
LOCATION:Virtual
UID:e.9078.8714
SEQUENCE:3
DTSTAMP:20260422T175438Z
URL:http://usasean.memberzone.com/events/details/us-asean-2022-vietnam-business-mission-second-planning-call-8714
END:VEVENT

END:VCALENDAR
