BEGIN:VCALENDAR
VERSION:2.0
PRODID:-//ChamberMaster//Event Calendar 2.0//EN
METHOD:PUBLISH
X-PUBLISHED-TTL:P3D
REFRESH-INTERVAL:P3D
CALSCALE:GREGORIAN
BEGIN:VEVENT
DTSTART:20220224T010000Z
DTEND:20220224T020000Z
X-MICROSOFT-CDO-ALLDAYEVENT:FALSE
SUMMARY:[US-ASEAN] 2022 Vietnam Business Mission First Planning Call
DESCRIPTION:The Council is pleased to invite you to the first planning call for the 2022 Vietnam Business Mission\, scheduled for March 8-10.\n\nPlease register for the Mission using this link https://www.usasean.org/mission/registration\n\nFor any questions or support\, please contact Minh Vu (mvu@usasean.org)
X-ALT-DESC;FMTTYPE=text/html:The Council is pleased to invite you to the first planning call for the 2022 Vietnam Business Mission\, scheduled for March 8-10.<br />\nPlease register for the Mission using this link&nbsp\;https://www.usasean.org/mission/registration<br />\nFor any questions or support\, please contact Minh Vu (mvu@usasean.org)
LOCATION:Virtual
UID:e.9078.8711
SEQUENCE:3
DTSTAMP:20260422T193935Z
URL:http://usasean.memberzone.com/events/details/us-asean-2022-vietnam-business-mission-first-planning-call-8711
END:VEVENT

END:VCALENDAR
