BEGIN:VCALENDAR
VERSION:2.0
PRODID:-//ChamberMaster//Event Calendar 2.0//EN
METHOD:PUBLISH
X-PUBLISHED-TTL:P3D
REFRESH-INTERVAL:P3D
CALSCALE:GREGORIAN
BEGIN:VEVENT
DTSTART:20230911T200000Z
DTEND:20230911T213000Z
X-MICROSOFT-CDO-ALLDAYEVENT:FALSE
SUMMARY:US-ABC UPS Roundtable & Reception on IPEF Pillar 2-Supply Chains
DESCRIPTION:Supply Chain Resilience and the Indo-Pacific Economic Framework: A Roundtable & Reception Hosted by UPS and the US-ASEAN Business Council\n\n(Roundtable by invitation only)
X-ALT-DESC;FMTTYPE=text/html:<div class="OutlineElement Ltr SCXW33517113 BCX0" style="margin: 0px\; padding: 0px\; user-select: text\; -webkit-user-drag: none\; -webkit-tap-highlight-color: transparent\; overflow: visible\; cursor: text\; clear: both\; position: relative\; direction: ltr\; color: rgb(0\, 0\, 0)\; font-family: &quot\;Segoe UI&quot\;\, &quot\;Segoe UI Web&quot\;\, Arial\, Verdana\, sans-serif\; font-size: 12px\;">\n<p class="Paragraph SCXW33517113 BCX0" paraeid="{bed15043-90c9-419d-9ae5-d9a4b0c368bf}{185}" paraid="258889380" style="margin: 0px\; padding: 0px\; user-select: text\; -webkit-user-drag: none\; -webkit-tap-highlight-color: transparent\; overflow-wrap: break-word\; white-space-collapse: preserve\; vertical-align: baseline\; font-kerning: none\; background-color: transparent\; color: windowtext\; text-align: center\;"><span class="NormalTextRun SCXW155670584 BCX0" style="margin: 0px\; padding: 0px\; user-select: text\; -webkit-user-drag: none\; -webkit-tap-highlight-color: transparent\; color: rgb(14\, 16\, 26)\; font-family: &quot\;Times New Roman&quot\;\, &quot\;Times New Roman_EmbeddedFont&quot\;\, &quot\;Times New Roman_MSFontService&quot\;\, serif\; font-size: 18.6667px\; font-style: italic\; font-variant-ligatures: none\; font-weight: 700\; text-align: center\; white-space-collapse: preserve\;">Supply Chain </span><span class="NormalTextRun SCXW155670584 BCX0" style="margin: 0px\; padding: 0px\; user-select: text\; -webkit-user-drag: none\; -webkit-tap-highlight-color: transparent\; color: rgb(14\, 16\, 26)\; font-family: &quot\;Times New Roman&quot\;\, &quot\;Times New Roman_EmbeddedFont&quot\;\, &quot\;Times New Roman_MSFontService&quot\;\, serif\; font-size: 18.6667px\; font-style: italic\; font-variant-ligatures: none\; font-weight: 700\; text-align: center\; white-space-collapse: preserve\;">Resilience and the Indo-Pacific Economic Framework: A Roundtable &amp\; Reception Hosted by UPS and the US-ASEAN Business Council</span><br />\n<span style="color: rgb(0\, 0\, 0)\; font-family: &quot\;Times New Roman&quot\;\, &quot\;Times New Roman_EmbeddedFont&quot\;\, &quot\;Times New Roman_MSFontService&quot\;\, serif\; font-size: 16px\; font-style: italic\; font-variant-ligatures: none\; font-weight: 700\; text-align: center\; white-space-collapse: preserve\;">(Roundtable by invitation only)</span></p>\n</div>\n
LOCATION:UPS Washington\, D.C. Townhouse 421 New Jersey Ave SE\, Washington\, DC 20003
UID:e.9078.9111
SEQUENCE:3
DTSTAMP:20260421T160146Z
URL:http://usasean.memberzone.com/events/details/us-abc-ups-roundtable-reception-on-ipef-pillar-2-supply-chains-9111
END:VEVENT

END:VCALENDAR
