BEGIN:VCALENDAR
VERSION:2.0
PRODID:-//ChamberMaster//Event Calendar 2.0//EN
METHOD:PUBLISH
X-PUBLISHED-TTL:P3D
REFRESH-INTERVAL:P3D
CALSCALE:GREGORIAN
BEGIN:VEVENT
DTSTART:20240807T010000Z
DTEND:20240807T023000Z
X-MICROSOFT-CDO-ALLDAYEVENT:FALSE
SUMMARY:US-ABC Q3 2024 ASEAN Committee Call ft. Malaysia DEFA Negotiating Team and 1st Planning Call for the 25th Business Mission to the 56th AEM
DESCRIPTION:
X-ALT-DESC;FMTTYPE=text/html:
LOCATION:
UID:e.9078.9337
SEQUENCE:3
DTSTAMP:20260422T154453Z
URL:http://usasean.memberzone.com/events/details/us-abc-q3-2024-asean-committee-call-ft-malaysia-defa-negotiating-team-and-1st-planning-call-for-the-25th-business-mission-to-the-56th-aem-9337
END:VEVENT

END:VCALENDAR
