BEGIN:VCALENDAR
VERSION:2.0
PRODID:-//ChamberMaster//Event Calendar 2.0//EN
METHOD:PUBLISH
X-PUBLISHED-TTL:P3D
REFRESH-INTERVAL:P3D
CALSCALE:GREGORIAN
BEGIN:VEVENT
DTSTART:20240621T010000Z
DTEND:20240621T023000Z
X-MICROSOFT-CDO-ALLDAYEVENT:FALSE
SUMMARY:US-ABC Q2 2024 ASEAN & Laos Committees Call
DESCRIPTION:
X-ALT-DESC;FMTTYPE=text/html:
LOCATION:
UID:e.9078.9314
SEQUENCE:3
DTSTAMP:20260422T122912Z
URL:http://usasean.memberzone.com/events/details/us-abc-q2-2024-asean-laos-committees-call-9314
END:VEVENT

END:VCALENDAR
