BEGIN:VCALENDAR
VERSION:2.0
PRODID:-//ChamberMaster//Event Calendar 2.0//EN
METHOD:PUBLISH
X-PUBLISHED-TTL:P3D
REFRESH-INTERVAL:P3D
CALSCALE:GREGORIAN
BEGIN:VEVENT
DTSTART:20220517T120000Z
DTEND:20220517T130000Z
X-MICROSOFT-CDO-ALLDAYEVENT:FALSE
SUMMARY:US-ABC Out-brief on US-ASEAN Special Summit\, 12-13 May 2022
DESCRIPTION:The Council invites members for on out-brief on private sector elements of the US-ASEAN Special Summit\, 12-13 May 2022.
X-ALT-DESC;FMTTYPE=text/html:The Council invites members for on out-brief on private sector elements of the US-ASEAN Special Summit\, 12-13 May 2022.
LOCATION:Virtual Meeting over Zoom
UID:e.9078.8778
SEQUENCE:3
DTSTAMP:20260422T142055Z
URL:http://usasean.memberzone.com/events/details/us-abc-out-brief-on-us-asean-special-summit-12-13-may-2022-8778
END:VEVENT

END:VCALENDAR
