BEGIN:VCALENDAR
VERSION:2.0
PRODID:-//ChamberMaster//Event Calendar 2.0//EN
METHOD:PUBLISH
X-PUBLISHED-TTL:P3D
REFRESH-INTERVAL:P3D
CALSCALE:GREGORIAN
BEGIN:VEVENT
DTSTART;VALUE=DATE:20230926
DTEND;VALUE=DATE:20231014
TRANSP:TRANSPARENT
X-MICROSOFT-CDO-ALLDAYEVENT:TRUE
SUMMARY:US-ABC Meeting Series on Indonesia's Local Content Requirement
DESCRIPTION:
X-ALT-DESC;FMTTYPE=text/html:
LOCATION:
UID:e.9078.9163
SEQUENCE:3
DTSTAMP:20260421T160625Z
URL:http://usasean.memberzone.com/events/details/us-abc-meeting-series-on-indonesia-s-local-content-requirement-9163
END:VEVENT

END:VCALENDAR
