BEGIN:VCALENDAR
VERSION:2.0
PRODID:-//ChamberMaster//Event Calendar 2.0//EN
METHOD:PUBLISH
X-PUBLISHED-TTL:P3D
REFRESH-INTERVAL:P3D
CALSCALE:GREGORIAN
BEGIN:VEVENT
DTSTART:20181003T130000Z
DTEND:20181003T160000Z
X-MICROSOFT-CDO-ALLDAYEVENT:FALSE
SUMMARY:[US-ABC INVITATION] Briefing on New Foreign Worker Regulation
DESCRIPTION:In collaboration with the Ministry of Manpower\, Indonesia Canada Chamber of Commerce (ICCC)\, US ASEAN Business Council\, and European Chamber of Commerce are pleased to invite you to join a briefing on new foreign worker regulation.\n\n\n\nGiven the importance\, the forum will serve as a discussion to provide insights\, views and better understanding of the new Ministry of Manpower Regulation No. 10/2018 on Recruitment Procedure of Foreign Workers (TKA) followed by Regulation of the Ministry of Law and Human Rights No.16/2018 on Procedures for the Issuance of Visa and Stay Permits for Foreign Workers.\n\n\n\nSpeakers:\n\n\n	  Ir. Maruli Apul Hasoloan\, M.A.\, Ph.D.\, Director General for employment Placement and Expansion\, Ministry of Manpower\, Republic of Indonesia\n	 Dr. Drs. Ronny F. Sompie\, S.H.\, M.H.\, Director General for Immigration\, Ministry of Law adn Human Rights*\n\n\n Briefing will be conducted in Bahasa and simultaneous interpreter is available.
X-ALT-DESC;FMTTYPE=text/html:<p style="margin: 0px\;"><span style="font-size:16px\;"><span style="font-family:times new roman\;"><span style="margin: 0px\;">In collaboration with the Ministry of Manpower\, Indonesia Canada Chamber of Commerce (ICCC)\, US ASEAN Business Council\, and European Chamber of Commerce are pleased to invite you to join a <b>briefing on new foreign worker regulation</b>.<br />\n<br />\nGiven the importance\, the forum will serve as a discussion to provide insights\, views and better understanding of the new Ministry of Manpower Regulation No. 10/2018 on Recruitment Procedure of Foreign Workers (TKA) followed by Regulation of the Ministry of Law and Human Rights No.16/2018 on Procedures for the Issuance of Visa and Stay Permits for Foreign Workers.<br />\n<br />\nSpeakers:</span></span></span></p>\n\n<ol>\n	<li style="margin: 0px\;"><span style="font-size:16px\;"><span style="font-family:times new roman\;"><span style="margin: 0px\;">&#8203\;&#8203\;Ir. Maruli Apul Hasoloan\, M.A.\, Ph.D.\, Director General for employment Placement and Expansion\, Ministry of Manpower\, Republic of Indonesia</span></span></span></li>\n	<li style="margin: 0px\;"><span style="font-size:16px\;"><span style="font-family:times new roman\;"><span style="margin: 0px\;">&#8203\;Dr. Drs. Ronny F. Sompie\, S.H.\, M.H.\, Director General for Immigration\, Ministry of Law adn Human Rights*</span></span></span></li>\n</ol>\n\n<div style="margin: 0px\;"><span style="font-size:16px\;"><span style="font-family:times new roman\;"><span style="margin: 0px\;">&#8203\;Briefing will be conducted in Bahasa and simultaneous interpreter is available.&nbsp\;</span></span></span></div>\n
LOCATION:JS Luwansa Hotel Jl. Rasuna Said
UID:e.9078.7699
SEQUENCE:3
DTSTAMP:20260420T070101Z
URL:http://usasean.memberzone.com/events/details/us-abc-invitation-briefing-on-new-foreign-worker-regulation-7699
END:VEVENT

END:VCALENDAR
