BEGIN:VCALENDAR
VERSION:2.0
PRODID:-//ChamberMaster//Event Calendar 2.0//EN
METHOD:PUBLISH
X-PUBLISHED-TTL:P3D
REFRESH-INTERVAL:P3D
CALSCALE:GREGORIAN
BEGIN:VEVENT
DTSTART:20240307T220000Z
DTEND:20240308T000000Z
X-MICROSOFT-CDO-ALLDAYEVENT:FALSE
SUMMARY:US-ABC Happy Hour @ McCormick & Schmicks's
DESCRIPTION:
X-ALT-DESC;FMTTYPE=text/html:&nbsp\;\n<h1 class="DUwDvf lfPIob" style="background-image: none\; background-position: 0% 0%\; background-size: auto\; background-repeat: repeat\; background-attachment: scroll\; background-origin: padding-box\; background-clip: border-box\; border: 0px\; border-radius: 0px\; font-stretch: inherit\; font-size: 1.375rem\; line-height: 1.75rem\; font-family: &quot\;Google Sans&quot\;\, Roboto\, Arial\, sans-serif\; font-size-adjust: inherit\; font-kerning: inherit\; font-variant-alternates: inherit\; font-variant-ligatures: inherit\; font-variant-numeric: inherit\; font-variant-east-asian: inherit\; font-variant-position: inherit\; font-feature-settings: inherit\; font-optical-sizing: inherit\; font-variation-settings: inherit\; list-style: none\; margin: 0px\; outline: 0px\; overflow: visible\; padding: 0px\; vertical-align: baseline\; color: rgb(32\, 33\, 36)\;">&nbsp\;</h1>\n
LOCATION:Location: McCormick & Schmick's Seafood & Steaks Address: 1652 K St NW\, Washington\, DC 20006
UID:e.9078.9248
SEQUENCE:3
DTSTAMP:20260422T051949Z
URL:http://usasean.memberzone.com/events/details/us-abc-happy-hour-mccormick-schmicks-s-9248
END:VEVENT

END:VCALENDAR
