BEGIN:VCALENDAR
VERSION:2.0
PRODID:-//ChamberMaster//Event Calendar 2.0//EN
METHOD:PUBLISH
X-PUBLISHED-TTL:P3D
REFRESH-INTERVAL:P3D
CALSCALE:GREGORIAN
BEGIN:VEVENT
DTSTART:20240712T030000Z
DTEND:20240712T040000Z
X-MICROSOFT-CDO-ALLDAYEVENT:FALSE
SUMMARY:US-ABC Food and Agriculture Committee Briefing with ADR Pham Quang Minh
DESCRIPTION:USABC Briefing with ADR Pham Quang Minh\, Head of Division\, Agriculture and Forestry\, ASEAN Secretariat.
X-ALT-DESC;FMTTYPE=text/html:USABC Briefing with ADR Pham Quang Minh\, Head of Division\, Agriculture and Forestry\, ASEAN Secretariat.&nbsp\;
LOCATION:Topic: USABC Virtual Briefing with ADR Pham Quang Minh Time: Jul 12\, 2024 10:00 AM Jakarta Join Zoom Meeting (Recommended) https://usasean.zoom.us/j/83995961922?pwd=eRypOs7Ebo1nuoazMxYsAs2VMarvhL.1 Meeting ID: 839 9596 1922 Password: 361734
UID:e.9078.9330
SEQUENCE:3
DTSTAMP:20260422T161549Z
URL:http://usasean.memberzone.com/events/details/us-abc-food-and-agriculture-committee-briefing-with-adr-pham-quang-minh-9330
END:VEVENT

END:VCALENDAR
