BEGIN:VCALENDAR
VERSION:2.0
PRODID:-//ChamberMaster//Event Calendar 2.0//EN
METHOD:PUBLISH
X-PUBLISHED-TTL:P3D
REFRESH-INTERVAL:P3D
CALSCALE:GREGORIAN
BEGIN:VEVENT
DTSTART:20200430T130000Z
DTEND:20200430T150000Z
X-MICROSOFT-CDO-ALLDAYEVENT:FALSE
SUMMARY:US-ABC Extraordinary Board of Directors Meeting
DESCRIPTION:Special Meeting of the US-ASEAN Business Council Board of Directors
X-ALT-DESC;FMTTYPE=text/html:Special Meeting of the US-ASEAN Business Council Board of Directors
LOCATION:via teleconference
UID:e.9078.8178
SEQUENCE:3
DTSTAMP:20260424T123547Z
URL:http://usasean.memberzone.com/events/details/us-abc-extraordinary-board-of-directors-meeting-8178
END:VEVENT

END:VCALENDAR
