BEGIN:VCALENDAR
VERSION:2.0
PRODID:-//ChamberMaster//Event Calendar 2.0//EN
METHOD:PUBLISH
X-PUBLISHED-TTL:P3D
REFRESH-INTERVAL:P3D
CALSCALE:GREGORIAN
BEGIN:VEVENT
DTSTART:20200313T020000Z
DTEND:20200313T040000Z
X-MICROSOFT-CDO-ALLDAYEVENT:FALSE
SUMMARY:US-ABC Discussion Meeting on Indonesia Personal Data Protection
DESCRIPTION:
X-ALT-DESC;FMTTYPE=text/html:
LOCATION:US-ASEAN Business Council Meeting Room: 36B Menara Astra Jl. Jend. Sudirman Kav. 5 Jakarta\, Indonesia 10220
UID:e.9078.8163
SEQUENCE:3
DTSTAMP:20260424T125336Z
URL:http://usasean.memberzone.com/events/details/us-abc-discussion-meeting-on-indonesia-personal-data-protection-8163
END:VEVENT

END:VCALENDAR
