BEGIN:VCALENDAR
VERSION:2.0
PRODID:-//ChamberMaster//Event Calendar 2.0//EN
METHOD:PUBLISH
X-PUBLISHED-TTL:P3D
REFRESH-INTERVAL:P3D
CALSCALE:GREGORIAN
BEGIN:VEVENT
DTSTART:20200421T020000Z
DTEND:20200421T030000Z
X-MICROSOFT-CDO-ALLDAYEVENT:FALSE
SUMMARY:US-ABC Discussion Call on Indonesia Personal Data Protection (PDP) Bill
DESCRIPTION:
X-ALT-DESC;FMTTYPE=text/html:
LOCATION:Zoom Call
UID:e.9078.8180
SEQUENCE:3
DTSTAMP:20260424T093416Z
URL:http://usasean.memberzone.com/events/details/us-abc-discussion-call-on-indonesia-personal-data-protection-pdp-bill-8180
END:VEVENT

END:VCALENDAR
