BEGIN:VCALENDAR
VERSION:2.0
PRODID:-//ChamberMaster//Event Calendar 2.0//EN
METHOD:PUBLISH
X-PUBLISHED-TTL:P3D
REFRESH-INTERVAL:P3D
CALSCALE:GREGORIAN
BEGIN:VEVENT
DTSTART:20201209T223000Z
DTEND:20201210T020000Z
X-MICROSOFT-CDO-ALLDAYEVENT:FALSE
SUMMARY:US-ABC Board of Directors Meeting
DESCRIPTION:Meeting of the US-ASEAN Business Council Board of Directors
X-ALT-DESC;FMTTYPE=text/html:Meeting of the US-ASEAN Business Council Board of Directors
LOCATION:Singapore (TBC) Venue TBD + via teleconference
UID:e.9078.8129
SEQUENCE:3
DTSTAMP:20260423T211945Z
URL:http://usasean.memberzone.com/events/details/us-abc-board-of-directors-meeting-8129
END:VEVENT

END:VCALENDAR
