BEGIN:VCALENDAR
VERSION:2.0
PRODID:-//ChamberMaster//Event Calendar 2.0//EN
METHOD:PUBLISH
X-PUBLISHED-TTL:P3D
REFRESH-INTERVAL:P3D
CALSCALE:GREGORIAN
BEGIN:VEVENT
DTSTART:20230131T020000Z
DTEND:20230131T030000Z
X-MICROSOFT-CDO-ALLDAYEVENT:FALSE
SUMMARY:U.S Treasury Briefing on 2023 APEC Priorities
DESCRIPTION:
X-ALT-DESC;FMTTYPE=text/html:
LOCATION:
UID:e.9078.8942
SEQUENCE:3
DTSTAMP:20260421T211457Z
URL:http://usasean.memberzone.com/events/details/u-s-treasury-briefing-on-2023-apec-priorities-8942
END:VEVENT

END:VCALENDAR
