BEGIN:VCALENDAR
VERSION:2.0
PRODID:-//ChamberMaster//Event Calendar 2.0//EN
METHOD:PUBLISH
X-PUBLISHED-TTL:P3D
REFRESH-INTERVAL:P3D
CALSCALE:GREGORIAN
BEGIN:VEVENT
DTSTART:20150129T090000Z
DTEND:20150129T100000Z
X-MICROSOFT-CDO-ALLDAYEVENT:FALSE
SUMMARY:U.S. Trade Policy Update with Walter Lohman
DESCRIPTION:U.S. Trade Policy Update with Walter Lohman
X-ALT-DESC;FMTTYPE=text/html:U.S. Trade Policy Update with Walter Lohman
LOCATION:Singapore
UID:e.9078.1468
SEQUENCE:3
DTSTAMP:20260419T205737Z
URL:http://usasean.memberzone.com/events/details/u-s-trade-policy-update-with-walter-lohman-01-29-2015-1468
END:VEVENT

END:VCALENDAR
