BEGIN:VCALENDAR
VERSION:2.0
PRODID:-//ChamberMaster//Event Calendar 2.0//EN
METHOD:PUBLISH
X-PUBLISHED-TTL:P3D
REFRESH-INTERVAL:P3D
CALSCALE:GREGORIAN
BEGIN:VEVENT
DTSTART;VALUE=DATE:20140430
DTEND;VALUE=DATE:20140503
TRANSP:TRANSPARENT
X-MICROSOFT-CDO-ALLDAYEVENT:TRUE
SUMMARY:U.S.-Indonesia Energy Policy Dialogue
DESCRIPTION:As part of the US- Indonesia Energy Policy Dialogue\, please join the US-ASEAN Business Council\, the U.S. Chamber of Commerce and AmCham Indonesia for a private sector roundtable with the Indonesian Vice Minister for Energy\, Susilo Siswoutomo and his delegation as well as Deputy Assistant Secretary for Energy Dr. Phyllis Yoshida. The roundtable will take place on April 30 at the U.S. Chamber of Commerce\, followed by a welcome reception.\n\n\n\nCompanies that register are also invited to participate in the May 1 and May 2 official dialogue program (hosted by the U.S. Department of Energy).
X-ALT-DESC;FMTTYPE=text/html:<span style="font-family:arial\,sans-serif\;"><span style="font-size:12.0pt\;">As part of the US- Indonesia Energy Policy Dialogue\, please join the US-ASEAN Business Council\, the U.S. Chamber of Commerce and AmCham Indonesia for a private sector roundtable with the Indonesian Vice Minister for Energy\, Susilo Siswoutomo and his delegation as well as Deputy Assistant Secretary for Energy Dr. Phyllis Yoshida. The roundtable will take place on April 30 at the U.S. Chamber of Commerce\, followed by a welcome reception.<br />\n<br />\nCompanies that register are also invited to participate in the May 1 and May 2 official dialogue program (hosted by the U.S. Department of Energy). </span></span><br />\n&nbsp\;
LOCATION:Washington DC
UID:e.9078.1054
SEQUENCE:3
DTSTAMP:20260420T142014Z
URL:http://usasean.memberzone.com/events/details/u-s-indonesia-energy-policy-dialogue-04-30-2014-1054
END:VEVENT

END:VCALENDAR
