BEGIN:VCALENDAR
VERSION:2.0
PRODID:-//ChamberMaster//Event Calendar 2.0//EN
METHOD:PUBLISH
X-PUBLISHED-TTL:P3D
REFRESH-INTERVAL:P3D
CALSCALE:GREGORIAN
BEGIN:VEVENT
DTSTART:20181212T140000Z
DTEND:20181212T170000Z
X-MICROSOFT-CDO-ALLDAYEVENT:FALSE
SUMMARY:U.S. Commerce Dept Roundtable Discussion on Commercial Opportunities in the Indo-Pacific
DESCRIPTION:
X-ALT-DESC;FMTTYPE=text/html:
LOCATION:
UID:e.9078.7759
SEQUENCE:3
DTSTAMP:20260425T125432Z
URL:http://usasean.memberzone.com/events/details/u-s-commerce-dept-roundtable-discussion-on-commercial-opportunities-in-the-indo-pacific-7759
END:VEVENT

END:VCALENDAR
