BEGIN:VCALENDAR
VERSION:2.0
PRODID:-//ChamberMaster//Event Calendar 2.0//EN
METHOD:PUBLISH
X-PUBLISHED-TTL:P3D
REFRESH-INTERVAL:P3D
CALSCALE:GREGORIAN
BEGIN:VEVENT
DTSTART:20150213T180000Z
DTEND:20150213T190000Z
X-MICROSOFT-CDO-ALLDAYEVENT:FALSE
SUMMARY:U.S. APEC Business Coalition SOM I and ABAC I Briefing
DESCRIPTION:The U.S. APEC Business Coalition would like to invite you to join members of the U.S. business community for a briefing on the highlights and outcomes of the first APEC Senior Officials Meeting being held in Clark\, Philippines this week as well as the first ABAC meeting being held in Hong Kong. \n\n\n\nSpeakers will include:                                               \n\n	Bob Wang\, U.S. Senior Official for APEC\n	Bruce Hirsh\,  Assistant U.S. Trade Representative for Japan\, Korea and APEC\n	Monica Hardy Whaley\, President\, National Center for APEC\n\nTo register to attend please click here.
X-ALT-DESC;FMTTYPE=text/html:The U.S. APEC Business Coalition would like to invite you to join members of the U.S. business community for a briefing on the highlights and outcomes of the first APEC Senior Officials Meeting being held in Clark\, Philippines this week as well as the first ABAC meeting being held in Hong Kong.&nbsp\;<br />\n<br />\nSpeakers will include:&nbsp\; &nbsp\;&nbsp\; &nbsp\; &nbsp\; &nbsp\; &nbsp\; &nbsp\; &nbsp\; &nbsp\; &nbsp\; &nbsp\; &nbsp\; &nbsp\; &nbsp\; &nbsp\; &nbsp\; &nbsp\; &nbsp\; &nbsp\; &nbsp\; &nbsp\; &nbsp\; &nbsp\;&nbsp\;\n<ul>\n	<li>Bob Wang\, U.S. Senior Official for APEC</li>\n	<li>Bruce Hirsh\, &nbsp\;Assistant U.S. Trade Representative for Japan\, Korea and APEC</li>\n	<li>Monica Hardy Whaley\, President\, National Center for APEC</li>\n</ul>\n<strong><a href="https://app.smartsheet.com/b/form?EQBCT=c3e70e4a96bd4443a26c572afd47e6ea">To register to attend please click here.</a>&nbsp\;</strong>
LOCATION:Microsoft Innovation & Policy Center 901 K Street\, NW 11th Floor Washington\, DC 20001 Teleconference number will be provided upon request.
UID:e.9078.1475
SEQUENCE:3
DTSTAMP:20260419T192218Z
URL:http://usasean.memberzone.com/events/details/u-s-apec-business-coalition-som-i-and-abac-i-briefing-02-13-2015-1475
END:VEVENT

END:VCALENDAR
