BEGIN:VCALENDAR
VERSION:2.0
PRODID:-//ChamberMaster//Event Calendar 2.0//EN
METHOD:PUBLISH
X-PUBLISHED-TTL:P3D
REFRESH-INTERVAL:P3D
CALSCALE:GREGORIAN
BEGIN:VEVENT
DTSTART:20240709T020000Z
DTEND:20240709T090000Z
X-MICROSOFT-CDO-ALLDAYEVENT:FALSE
SUMMARY:Travel & Tourism SME Workshop 2024 in Thailand
DESCRIPTION:Dear Members\,\n\n\n\nThe US-ASEAN Business Council is registering senior-level executives for the 2024 Travel & Tourism Workshop and Industry Dialogues to Thailand on July 9 - 11\, 2024 in Bangkok. This sector-focused workshop and dialogues will offer members an opportunity to engage key stakeholders\, which make up Thailand's travel & tourism ecosystem\, and to understand the Royal Thai Government's priorities and plans for the tourism industry. \n\n\n\nThe workshop will have "Thriving MSMEs: Enhancing Sustainability and Resilience for Thailand as Global Tourism Hub" as the theme and will target around 100 - 120 Thai MSMEs in Bangkok and its surroundings from various industries\, such as hospitality\, tourism\, manufacturing\, trade and wholesale\, food and beverages\, among others.
X-ALT-DESC;FMTTYPE=text/html:Dear Members\,<br />\n<br />\nThe US-ASEAN Business Council is registering senior-level executives for the 2024 Travel &amp\; Tourism Workshop and Industry Dialogues to Thailand on July 9 - 11\, 2024 in Bangkok.&nbsp\;This sector-focused workshop and dialogues will offer members an opportunity to engage key stakeholders\, which make up Thailand&rsquo\;s travel &amp\; tourism ecosystem\, and to understand the Royal Thai Government&rsquo\;s priorities and plans for the tourism industry.&nbsp\;<br />\n<br />\nThe workshop will have &ldquo\;<strong><em>Thriving MSMEs: Enhancing Sustainability and Resilience for Thailand as Global Tourism Hub</em></strong>&rdquo\; as the theme and will target around 100 - 120 Thai MSMEs in Bangkok and its surroundings from various industries\, such as hospitality\, tourism\, manufacturing\, trade and wholesale\, food and beverages\, among others.&nbsp\;
LOCATION:Bangkok\, Thailand
UID:e.9078.9284
SEQUENCE:3
DTSTAMP:20260422T123105Z
URL:http://usasean.memberzone.com/events/details/travel-tourism-sme-workshop-2024-in-thailand-9284
END:VEVENT

END:VCALENDAR
