BEGIN:VCALENDAR
VERSION:2.0
PRODID:-//ChamberMaster//Event Calendar 2.0//EN
METHOD:PUBLISH
X-PUBLISHED-TTL:P3D
REFRESH-INTERVAL:P3D
CALSCALE:GREGORIAN
BEGIN:VEVENT
DTSTART:20180620T010000Z
DTEND:20180620T020000Z
X-MICROSOFT-CDO-ALLDAYEVENT:FALSE
SUMMARY:Travel and Tourism Committee First Meeting and Call
DESCRIPTION:The first travel and tourism committee meeting to get to know each other's priorities\, review the work plan and items we want to work on for the rest of the year. A dial-in will be provided if you're unable to join us in-person.
X-ALT-DESC;FMTTYPE=text/html:The first travel and tourism committee meeting to get to know each other&#39\;s priorities\, review the work plan and items we want to work on for the rest of the year. A dial-in will be provided if you&#39\;re unable to join us in-person.&nbsp\;
LOCATION:USABC Office\,Shaw Towers\, 100 Beach Road #22-04/05 OR Conference call (dial in details will be provided later)
UID:e.9078.6586
SEQUENCE:3
DTSTAMP:20260420T020023Z
URL:http://usasean.memberzone.com/events/details/travel-and-tourism-committee-first-meeting-and-call-6586
END:VEVENT

END:VCALENDAR
