BEGIN:VCALENDAR
VERSION:2.0
PRODID:-//ChamberMaster//Event Calendar 2.0//EN
METHOD:PUBLISH
X-PUBLISHED-TTL:P3D
REFRESH-INTERVAL:P3D
CALSCALE:GREGORIAN
BEGIN:VEVENT
DTSTART:20140520T144500Z
DTEND:20140520T154500Z
X-MICROSOFT-CDO-ALLDAYEVENT:FALSE
SUMMARY:TPP Healthcare Transparency Malaysia Meeting
DESCRIPTION:Meeting to discuss healthcare transparency with Muzalmah binti Mustapha Kamal\, Head of Bilateral Trade\, ASEAN and International Finance Unit\, Attorney General's Chambers of Malaysia
X-ALT-DESC;FMTTYPE=text/html:Meeting to discuss healthcare transparency with <strong>Muzalmah binti Mustapha Kamal\,</strong> Head of Bilateral Trade\, ASEAN and International Finance Unit\, Attorney General&rsquo\;s Chambers of Malaysia<br />\n&nbsp\;
LOCATION:USABC Singapore Office
UID:e.9078.1156
SEQUENCE:3
DTSTAMP:20260420T125758Z
URL:http://usasean.memberzone.com/events/details/tpp-healthcare-transparency-malaysia-meeting-05-20-2014-1156
END:VEVENT

END:VCALENDAR
