BEGIN:VCALENDAR
VERSION:2.0
PRODID:-//ChamberMaster//Event Calendar 2.0//EN
METHOD:PUBLISH
X-PUBLISHED-TTL:P3D
REFRESH-INTERVAL:P3D
CALSCALE:GREGORIAN
BEGIN:VEVENT
DTSTART:20140520T210000Z
DTEND:20140520T220000Z
X-MICROSOFT-CDO-ALLDAYEVENT:FALSE
SUMMARY:TPP Briefing in Singapore with Wendy Cutler
DESCRIPTION:TPP Briefing in Singapore with Wendy Cutler
X-ALT-DESC;FMTTYPE=text/html:TPP Briefing in Singapore with Wendy Cutler
LOCATION:InterContinental Hotel 80 Middle Road Singapore 188966
UID:e.9078.1151
SEQUENCE:3
DTSTAMP:20260420T125514Z
URL:http://usasean.memberzone.com/events/details/tpp-briefing-in-singapore-with-wendy-cutler-05-20-2014-1151
END:VEVENT

END:VCALENDAR
