BEGIN:VCALENDAR
VERSION:2.0
PRODID:-//ChamberMaster//Event Calendar 2.0//EN
METHOD:PUBLISH
X-PUBLISHED-TTL:P3D
REFRESH-INTERVAL:P3D
CALSCALE:GREGORIAN
BEGIN:VEVENT
DTSTART:20130311T114500Z
DTEND:20130311T130000Z
X-MICROSOFT-CDO-ALLDAYEVENT:FALSE
SUMMARY:TPP Breakfast Dialogue with Jonathan McHale\, Deputy Assistant U.S. Trade Representative for Telecom and E-Commerce
DESCRIPTION:The purpose of this discussion is to exchange perspectives on the outcomes and the path ahead for the Tran Pacific Partnership with respect to telecommunications and e-commerce policy.
X-ALT-DESC;FMTTYPE=text/html:<span style="font-size: 16px\;"><span style="font-family: arial\;">The purpose of this discussion is to exchange perspectives on the outcomes and the path ahead for the Tran Pacific Partnership with respect to telecommunications and e-commerce policy. </span></span>
LOCATION:American Chamber of Commerce in Singapore 1 Scotts Road\, Shaw Centre #23-03/04/05 Singapore 228208
UID:e.9078.719
SEQUENCE:3
DTSTAMP:20260422T061258Z
URL:http://usasean.memberzone.com/events/details/tpp-breakfast-dialogue-with-jonathan-mchale-deputy-assistant-u-s-trade-representative-for-telecom-and-e-commerce-03-11-2013-719
END:VEVENT

END:VCALENDAR
