BEGIN:VCALENDAR
VERSION:2.0
PRODID:-//ChamberMaster//Event Calendar 2.0//EN
METHOD:PUBLISH
X-PUBLISHED-TTL:P3D
REFRESH-INTERVAL:P3D
CALSCALE:GREGORIAN
BEGIN:VEVENT
DTSTART;VALUE=DATE:20231114
DTEND;VALUE=DATE:20231117
TRANSP:TRANSPARENT
X-MICROSOFT-CDO-ALLDAYEVENT:TRUE
SUMMARY:The USABC Health Dialogues: Innovations for Health
DESCRIPTION:Dear Members\, \n\n \n\nFollowing the Council's successful engagements during the Philippines Business Mission last August and in support of the Marcos Administration's priorities to advance Universal Health Coverage (UHC) and digital transformation in healthcare systems\, the Council is pleased to announce and invite you to the USABC Health Dialogues: Innovations for Health\, taking place on November 14 to 16 in Metro Manila\, Philippines.\n\n \n\nThis event is a series of high-level bilateral meetings that aims to facilitate an in-depth dialogue between US companies and key government agencies in the Philippines on the following priority healthcare sector issues:\n\n \n\n1.     Supporting digitalization efforts to improve health service delivery and data protection\; \n\n2.     Capacity building for improved health technologies assessment\;\n\n3.     Exploring opportunities for improved healthcare financing\; and\n\n4.     Strengthening the primary care network for better prevention and access. \n\n \n\nIn this format\, the Council seeks to provide its member companies with a direct and intimate engagement with the following government agencies:\n\n \n\n1.     Department of Health\n\n2.     Department of Science and Technology\n\n3.     Senate Committee on Health Demography\n\n4.     House Committee on Health\n\n5.     Philippine Health Insurance Corporation\n\n6.     Food and Drug Administration\n\n \n\nThis approach will enable participants to identify opportunities\, challenges\, and necessary steps to promote an inclusive and sustainable universal healthcare system in the Philippines. \n\n\n\nInterested members or members with queries may contact Philippine Country Representative Third Bagro (tbagro@usasean.org) or Manager Angelica Takashima (atakashima@usasean.org) on or before October 12 (Thursday)\, EOB.
X-ALT-DESC;FMTTYPE=text/html:<br />\n<span style="font-size:14px\;"><span style="font-family:arial\;">Dear Members\,&nbsp\;<br />\n&nbsp\;<br />\nFollowing the Council&rsquo\;s successful engagements during the Philippines Business Mission last August and in support of the Marcos Administration&rsquo\;s priorities to advance Universal Health Coverage (UHC) and digital transformation in healthcare systems\, the Council is pleased to announce and invite you to the <strong>USABC Health Dialogues: Innovations for Health</strong>\, taking place on <u>November 14 to 16</u>&nbsp\;in Metro Manila\, Philippines.<br />\n&nbsp\;<br />\nThis event is a series of high-level bilateral meetings that aims to facilitate an in-depth dialogue between US companies and key government agencies in the Philippines on the following priority healthcare sector issues:<br />\n&nbsp\;<br />\n1.&nbsp\;&nbsp\;&nbsp\;&nbsp\; <span style="background-image:initial\;background-position:initial\;background-size:initial\;background-repeat:initial\;background-attachment:initial\;background-origin:initial\;background-clip:initial\;">Supporting digitalization efforts to improve health service delivery and data protection\;</span>&nbsp\;<br />\n2.&nbsp\;&nbsp\;&nbsp\;&nbsp\; <span style="background-image:initial\;background-position:initial\;background-size:initial\;background-repeat:initial\;background-attachment:initial\;background-origin:initial\;background-clip:initial\;">Capacity building for improved health technologies assessment\;</span><br />\n3.&nbsp\;&nbsp\;&nbsp\;&nbsp\; <span style="background-image:initial\;background-position:initial\;background-size:initial\;background-repeat:initial\;background-attachment:initial\;background-origin:initial\;background-clip:initial\;">Exploring opportunities for improved healthcare financing</span><span style="background-image:initial\;background-position:initial\;background-size:initial\;background-repeat:initial\;background-attachment:initial\;background-origin:initial\;background-clip:initial\;">\; and</span><br />\n4.&nbsp\;&nbsp\;&nbsp\;&nbsp\; <span style="background-image:initial\;background-position:initial\;background-size:initial\;background-repeat:initial\;background-attachment:initial\;background-origin:initial\;background-clip:initial\;">Strengthening the primary care network for better prevention and access.</span>&nbsp\;<br />\n&nbsp\;<br />\nIn this format\, the Council seeks to provide its member companies with a direct and intimate engagement with the following government agencies:<br />\n&nbsp\;<br />\n1.&nbsp\;&nbsp\;&nbsp\;&nbsp\; Department of Health<br />\n2.&nbsp\;&nbsp\;&nbsp\;&nbsp\; Department of Science and Technology<br />\n3.&nbsp\;&nbsp\;&nbsp\;&nbsp\; Senate Committee on Health Demography<br />\n4.&nbsp\;&nbsp\;&nbsp\;&nbsp\; House Committee on Health<br />\n5.&nbsp\;&nbsp\;&nbsp\;&nbsp\; Philippine Health Insurance Corporation<br />\n6.&nbsp\;&nbsp\;&nbsp\;&nbsp\; Food and Drug Administration<br />\n&nbsp\;<br />\nThis approach will enable participants to identify opportunities\, challenges\, and necessary steps to promote an inclusive and sustainable universal healthcare system in the Philippines.&nbsp\;<br />\n<br />\nInterested members or members with queries may contact Philippine Country Representative <span style="color:#212121\;">Third Bagro (</span><a href="mailto:tbagro@usasean.org" style="color:rgb(5\, 99\, 193)\;">tbagro@usasean.org</a><span style="color:#212121\;">) or Manager Angelica Takashima (</span><a href="mailto:atakashima@usasean.org" style="color:rgb(5\, 99\, 193)\;">atakashima@usasean.org</a><span style="color:#212121\;">) on or before <strong>October 12 (Thursday)\, EOB</strong>.</span><br />\n&nbsp\;</span></span><br />\n&nbsp\;
LOCATION:Metro Manila\, Philippines
UID:e.9078.9176
SEQUENCE:3
DTSTAMP:20260421T160907Z
URL:http://usasean.memberzone.com/events/details/the-usabc-health-dialogues-innovations-for-health-9176
END:VEVENT

END:VCALENDAR
