BEGIN:VCALENDAR
VERSION:2.0
PRODID:-//ChamberMaster//Event Calendar 2.0//EN
METHOD:PUBLISH
X-PUBLISHED-TTL:P3D
REFRESH-INTERVAL:P3D
CALSCALE:GREGORIAN
BEGIN:VEVENT
DTSTART:20130516T123000Z
DTEND:20130516T211500Z
X-MICROSOFT-CDO-ALLDAYEVENT:FALSE
SUMMARY:The Indonesia Conference @ CSIS
DESCRIPTION:The Center for Strategic and International Studies (CSIS)\, in cooperation with the Embassy of Indonesia\, the U.S.-Indonesia Society\, and the U.S.-ASEAN Business Council\, invites you to attend the Indonesia Conference @ CSIS. \n\n	\n\n	The goal of the Indonesia Conference @ CSIS is to put new ideas and energy into the U.S.-Indonesia relationship generally\, and specifically to discuss ideas that CSIS will develop into concrete recommendations for taking the Indonesia-U.S. Comprehensive Partnership to a deeper level by 2020. CSIS' Sumitro Chair for Southeast Asia Studies is writing a major research paper and preparing a set of recommendations on the U.S.-Indonesia relationship ahead of President Obama's October trip to Bali and Brunei Darussalam for the APEC and East Asia Summit\, respectively.\n\n	 \n\n	Keynote speeches will be given by Minister of Foreign Affairs Marty Natalegawa and Minister of Defense Purnomo Yusgiantoro (See full agenda attached). \n\n	\n\n	CSIS Indonesia Conference Agenda\n\n	 \n\n	Please click here to RSVP by Wednesday\, May 15\, 2013.\n\n	 \nFor questions contact Alexandra at astuart@usasean.org
X-ALT-DESC;FMTTYPE=text/html:<div>\n	The Center for Strategic and International Studies (CSIS)\, in cooperation with the Embassy of Indonesia\, the U.S.-Indonesia Society\, and the U.S.-ASEAN Business Council\, invites you to attend the Indonesia Conference @ CSIS.&nbsp\;<br />\n	<br />\n	The goal of the Indonesia Conference @ CSIS is to put new ideas and energy into the U.S.-Indonesia relationship generally\, and specifically to discuss ideas that CSIS will develop into concrete recommendations for taking the Indonesia-U.S. Comprehensive Partnership to a deeper level by 2020. CSIS&rsquo\; Sumitro Chair for Southeast Asia Studies is writing a major research paper and preparing a set of recommendations on the U.S.-Indonesia relationship ahead of President Obama&rsquo\;s October trip to Bali and Brunei Darussalam for the APEC and East Asia Summit\, respectively.</div>\n<div>\n	&nbsp\;</div>\n<div>\n	Keynote speeches will be given by <strong>Minister of Foreign Affairs Marty Natalegawa and Minister of Defense Purnomo Yusgiantoro</strong> (See full agenda attached).&nbsp\;<br />\n	<br />\n	<a href="http://cloud.chambermaster.com/userfiles/UserFiles/chambers/9078/File/IndonesiaConference_CSIS_Agenda.pdf">CSIS Indonesia Conference Agenda</a></div>\n<div>\n	&nbsp\;</div>\n<div>\n	Please <a href="http://csis.org/event/indonesia-conference-csis">click here</a> to RSVP by Wednesday\, May 15\, 2013.</div>\n<div>\n	&nbsp\;</div>\nFor questions contact Alexandra at <a href="mailto:astuart@usasean.org?subject=questions%20about%20CSIS%20Indonesia%20Conference">astuart@usasean.org</a>
LOCATION:The Four Seasons Hotel\, 2800 Pennsylvania Ave\, NW\, Washington D.C.
UID:e.9078.775
SEQUENCE:3
DTSTAMP:20260422T003459Z
URL:http://usasean.memberzone.com/events/details/the-indonesia-conference-csis-05-16-2013-775
END:VEVENT

END:VCALENDAR
