BEGIN:VCALENDAR
VERSION:2.0
PRODID:-//ChamberMaster//Event Calendar 2.0//EN
METHOD:PUBLISH
X-PUBLISHED-TTL:P3D
REFRESH-INTERVAL:P3D
CALSCALE:GREGORIAN
BEGIN:VEVENT
DTSTART:20200416T010000Z
DTEND:20200416T100000Z
X-MICROSOFT-CDO-ALLDAYEVENT:FALSE
SUMMARY:The Economist Indonesia Summit: Balancing Environmental and Business Imperatives
DESCRIPTION:In his second term\, President Widodo and his team are set to prioritise a fleet of policy areas\, from economic and infrastructure development to education and investment reforms\, all amidst plans to move Indonesia's capital from Jakarta to East Kalimantan.\n\nExtreme rainstorms and flooding in Jakarta are part of the reason for the capital move to the  island of Borneo. Can Indonesia afford to clear more forests to make way for a new city? And in doing so how can the country strike a balance between environmental concerns and economic growth?\n\nJoin key policymakers\, academics and business leaders at The Economist Events' Indonesia Summit 2020 on April 16th\, 2020 in Jakarta\, as we hear from the government about its policies for sustainable growth and plans to support the private sector.\n\nClick here to browse Indonesia Summit 2020.\n\nFor Enquiries\, please kindly contact us at asiaevents@economist.com or +65 64282603\n\nRegistration Link: https://bit.ly/2wdyzwy\n\nDiscount Code: USASEAN20 (Enjoy 20% off standard rate)
X-ALT-DESC;FMTTYPE=text/html:<span style="font-family:arial\,sans-serif\;"><span style="font-size:10.0pt\;">In his second term\, President Widodo and his team are set to prioritise a fleet of policy areas\, from economic and infrastructure development to education and investment reforms\, all amidst plans to move Indonesia&#39\;s capital from Jakarta to East Kalimantan.</span></span><br />\n<span style="font-family:arial\,sans-serif\;"><span style="font-size:10.0pt\;">Extreme rainstorms and flooding in Jakarta are part of the reason for the capital move to the &nbsp\;island of Borneo. Can Indonesia afford to clear more forests to make way for a new city? And in doing so how can the country strike a balance between environmental concerns and economic growth?</span></span><br />\n<strong><span style="font-family:arial\,sans-serif\;"><span style="font-size:10.0pt\;"><a href="https://protect-us.mimecast.com/s/at1mC5yMq2cxJQATOk1DH" target="_blank"><span style="text-decoration:none\;text-underline:none\;"><span style="color:windowtext\;">Join</span></span></a></span></span></strong><span style="font-family:arial\,sans-serif\;"><span style="font-size:10.0pt\;"> key policymakers\, academics and business leaders at The Economist Events&rsquo\; <strong><u><a href="https://protect-us.mimecast.com/s/aEgAC68Mr3f1NAXhmCmUH"><span style="color:windowtext\;">Indonesia Summit 2020</span></a></u></strong> on <strong>April 16th\, 2020 in Jakarta</strong>\, as we hear from the government about its policies for sustainable growth and plans to support the private sector.</span></span><br />\n<span style="font-family:arial\,sans-serif\;"><span style="font-size:10.0pt\;">Click here to browse&nbsp\;<strong><a href="https://protect-us.mimecast.com/s/aEgAC68Mr3f1NAXhmCmUH"><span style="text-decoration:none\;text-underline:none\;"><span style="color:windowtext\;">Indonesia Summit 2020</span></span></a>.</strong></span></span><br />\n<span style="font-family:arial\,sans-serif\;"><span style="font-size:10.0pt\;">For Enquiries\, please kindly contact us at&nbsp\;<strong><a href="mailto:asiaevents@economist.com" target="_blank"><span style="text-decoration:none\;text-underline:none\;"><span style="color:windowtext\;">asiaevents@economist.com</span></span></a></strong>&nbsp\;or +65 64282603</span></span><br />\n<span style="font-family:arial\,sans-serif\;"><span style="font-size:10.0pt\;">Registration Link:&nbsp\;<strong><u><a href="https://protect-us.mimecast.com/s/at1mC5yMq2cxJQATOk1DH"><span style="color:windowtext\;">https://bit.ly/2wdyzwy</span></a></u></strong></span></span><br />\n<span style="font-family:arial\,sans-serif\;"><span style="font-size:10.0pt\;">Discount Code:&nbsp\;USASEAN20&nbsp\;<strong>(Enjoy 20% off standard rate)</strong></span></span>
LOCATION:Shangri-La Hotel Jakarta Jl. Jendral Sudirman No. Kav. 1\, Karet Tengsin\, Tanah Abang Jakarta\, Indonesia
UID:e.9078.8151
SEQUENCE:3
DTSTAMP:20260424T094248Z
URL:http://usasean.memberzone.com/events/details/the-economist-indonesia-summit-balancing-environmental-and-business-imperatives-8151
END:VEVENT

END:VCALENDAR
