BEGIN:VCALENDAR
VERSION:2.0
PRODID:-//ChamberMaster//Event Calendar 2.0//EN
METHOD:PUBLISH
X-PUBLISHED-TTL:P3D
REFRESH-INTERVAL:P3D
CALSCALE:GREGORIAN
BEGIN:VEVENT
DTSTART;VALUE=DATE:20150211
DTEND;VALUE=DATE:20150212
TRANSP:TRANSPARENT
X-MICROSOFT-CDO-ALLDAYEVENT:TRUE
SUMMARY:The Economist Indonesia Summit 2015
DESCRIPTION:
X-ALT-DESC;FMTTYPE=text/html:
LOCATION:
UID:e.9078.1360
SEQUENCE:3
DTSTAMP:20260419T192320Z
URL:http://usasean.memberzone.com/events/details/the-economist-indonesia-summit-2015-02-11-2015-1360
END:VEVENT

END:VCALENDAR
