BEGIN:VCALENDAR
VERSION:2.0
PRODID:-//ChamberMaster//Event Calendar 2.0//EN
METHOD:PUBLISH
X-PUBLISHED-TTL:P3D
REFRESH-INTERVAL:P3D
CALSCALE:GREGORIAN
BEGIN:VEVENT
DTSTART;VALUE=DATE:20180405
DTEND;VALUE=DATE:20180406
TRANSP:TRANSPARENT
X-MICROSOFT-CDO-ALLDAYEVENT:TRUE
SUMMARY:The Economist Events' Indonesia Summit 2018
DESCRIPTION:The Economist Events' Indonesia Summit 2018 will examine how the private sector and government can modernise and diversify Indonesia's economy through the use of innovative technologies\, business practices and social improvement.\n\n\n\nSecure your place today at Indonesia Summit 2018 and meet:\n\n	Leading government figures including the minister of finance trade and female empowerment and child protection\n	Senior representatives from the following organisations: Asosiasi Fintech Indonesia\, Bank OCBC NISP\, Bank of Indonesia\, Bank Rakyat Indonesia\, BNP PARIBAS\, Bubu.com\, Bukalapak\, CekAja.com\, Coffindo\, Delegation of the European Union\, Digital Grid\, Dimo Pay Indonesia\, Finansialku.com\, Gajah Tunggal\, Godrej Indonesia\, Go-Jek\, Indika Energy\, Indonesia AirAsia\, Indonesia Deposit Insurance Corporation\, Indonesia Investment Coordinating Board\, IndonesianCouncil of World Affairs\, Indonesian Institute of Sciences\, International Labour Organization\, Kaltim Prima Coal\, Kraft Heinz ABC\, Lippo Group\, Louis Dreyfus Company\, Maxpower Group\, Medco Energi\, Mercedes-Benz\, Nippon Indosari\, PepsiCo Indonesia\, Philips Indonesia\, Sampoerna\, Siemens\, Sritex\, Supreme Energy\, Total\, Traveloka and many more\n\n\n\n\nMembers of US-ASEAN Business Council can enjoy 30% off the standard ticket rate to attend the event.  To secure your place\, please register here and contact Ian Saccomanno at isaccomanno@usasean.org for your member discount code.\n\n \nTo see the latest agenda and speaker line-up\, download the event's brochure. \n\n\n \n\n\nFor assistance in registering\, email us at asiaevents@economist.comor call Jennifer Winstanley\, our client relations executive on +852 2585 3312.
X-ALT-DESC;FMTTYPE=text/html:<font color="#545454" face="century gothic\, Helvetica\, sans-serif" style="font-size: 12px\;"><span style="font-size: 14px\;">The Economist Events&#39\; Indonesia Summit 2018 will examine how the private sector and government can modernise and diversify Indonesia&rsquo\;s economy through the use of innovative technologies\, business practices and social improvement.</span></font><br style="color: rgb(0\, 0\, 0)\; font-family: Arial\; font-size: 12px\;" />\n<br style="color: rgb(0\, 0\, 0)\; font-family: Arial\; font-size: 12px\;" />\n<font color="#545454" face="century gothic\, Helvetica\, sans-serif" style="font-size: 12px\;"><span style="font-size: 14px\;">Secure your place today at&nbsp\;<a data-targettype="webpage" href="https://goo.gl/vKdMBw?utm_campaign=EM3532%20-%20Email%205e%20-%20Partner%20-%20HTML%20-%20Consultancies%20-%20US-ASEAN&amp\;utm_medium=email&amp\;utm_source=Eloqua&amp\;elqTrackId=9DED0EFE0C964B3CE3BD37FBD61797C1&amp\;elq=ee52a721f2f84c0cbe7fa4cf7345d1c4&amp\;elqaid=18120&amp\;elqat=1&amp\;elqCampaignId=">Indonesia Summit 2018</a>&nbsp\;and meet:</span></font>\n<ul style="color: rgb(0\, 0\, 0)\; font-family: Arial\; font-size: 12px\;">\n	<li><font color="#545454" face="century gothic\, Helvetica\, sans-serif"><span style="font-size: 14px\;">Leading government figures including the minister of finance trade and female empowerment and child protection</span></font></li>\n	<li><font color="#545454" face="century gothic\, Helvetica\, sans-serif"><span style="font-size: 14px\;">Senior representatives from the following organisations: Asosiasi Fintech Indonesia\, Bank OCBC NISP\, Bank of Indonesia\, Bank Rakyat Indonesia\, BNP PARIBAS\, Bubu.com\, Bukalapak\, CekAja.com\, Coffindo\, Delegation of the European Union\, Digital Grid\, Dimo Pay Indonesia\, Finansialku.com\, Gajah Tunggal\, Godrej Indonesia\, Go-Jek\, Indika Energy\, Indonesia AirAsia\, Indonesia Deposit Insurance Corporation\, Indonesia Investment Coordinating Board\, IndonesianCouncil of World Affairs\, Indonesian Institute of Sciences\, International Labour Organization\, Kaltim Prima Coal\, Kraft Heinz ABC\, Lippo Group\, Louis Dreyfus Company\, Maxpower Group\, Medco Energi\, Mercedes-Benz\, Nippon Indosari\, PepsiCo Indonesia\, Philips Indonesia\, Sampoerna\, Siemens\, Sritex\, Supreme Energy\, Total\, Traveloka and many more</span></font></li>\n</ul>\n\n<div style="color: rgb(0\, 0\, 0)\; font-family: Arial\; font-size: 12px\;">\n<div style="color: rgb(0\, 0\, 0)\; font-size: 12px\;">\n<div><font style="font-size: 14px\;"><span id="docs-internal-guid-0f4d106c-1c59-9408-a4da-7ccbf66daf41" style="color: rgb(84\, 84\, 84)\;"><font face="century gothic\, Helvetica\, sans-serif"><span style="font-size: 14px\;"><span style="color: rgb(84\, 84\, 84)\;">Members of US-ASEAN Business Council can enjoy&nbsp\;</span><b style="color: rgb(255\, 0\, 0)\;">30</b></span></font><font style="font-family: &quot\;century gothic&quot\;\, Helvetica\, sans-serif\; font-size: 14px\;"><b style="color: rgb(255\, 0\, 0)\;">%</b><b style="color: rgb(255\, 0\, 0)\;">&nbsp\;off</b><b style="color: rgb(255\, 0\, 0)\;">&nbsp\;</b><span style="font-weight: bold\; color: rgb(255\, 0\, 0)\;">the standard ticket rate</span><span style="color: rgb(84\, 84\, 84)\;">&nbsp\;to attend the event.&nbsp\;</span></font>&nbsp\;<font color="#545454" style="color: rgb(84\, 84\, 84)\; font-family: &quot\;century gothic&quot\;\, Helvetica\, sans-serif\; font-size: 14px\;">To secure your place\, please&nbsp\;<a data-targettype="webpage" href="http://eventsregistration.economist.com/events/indonesia-summit-2018/event-summary-ff98205dce17469f95e516efbce3d6d5.aspx?utm_campaign=EM3532%20-%20Email%205e%20-%20Partner%20-%20HTML%20-%20Consultancies%20-%20US-ASEAN&amp\;utm_medium=email&amp\;utm_source=Eloqua&amp\;ct=b8543830-af94-4bed-a733-f0f6f0883ecb&amp\;RefID=EM3532_Email_Event_PartnerEuroCham&amp\;elqTrackId=E95AFDC778E6FCD5C09B4B6DDEC20F90&amp\;elq=ee52a721f2f84c0cbe7fa4cf7345d1c4&amp\;elqaid=18120&amp\;elqat=1&amp\;elqCampaignId=">register here</a>&nbsp\;and contact Ian Saccomanno&nbsp\;at <a href="http://isaccomanno@usasean.org">isaccomanno@usasean.org</a> for your member discount code.</font></span></font><br />\n&nbsp\;\n<div><font style="font-size: 14px\;"><span id="docs-internal-guid-0f4d106c-1c59-9408-a4da-7ccbf66daf41" style="color: rgb(84\, 84\, 84)\;"><font style="font-size: 14px\;"><span style="letter-spacing: 0px\; color: rgb(84\, 84\, 84)\;"><span style="font-family: &quot\;Century Gothic&quot\;\; font-variant-numeric: normal\; font-variant-east-asian: normal\; vertical-align: baseline\; white-space: pre-wrap\;">To see the latest agenda and speaker line-up\,</span></span>&nbsp\;<span style="letter-spacing: 0px\; font-variant-numeric: normal\; font-variant-east-asian: normal\; font-family: &quot\;Century Gothic&quot\;\; color: rgb(0\, 0\, 255)\; vertical-align: baseline\; white-space: pre-wrap\;"><a data-targettype="webpage" href="https://events.economist.com/events-conferences/asia/indonesia-summit-2018?utm_campaign=EM3532%20-%20Email%205e%20-%20Partner%20-%20HTML%20-%20Consultancies%20-%20US-ASEAN&amp\;utm_medium=email&amp\;utm_source=Eloqua&amp\;utm_source=Eloqua&amp\;utm_medium=eDM5Tech&amp\;elqTrackId=1312AC6CC833865033BA3FCF39AEE9E2&amp\;elq=ee52a721f2f84c0cbe7fa4cf7345d1c4&amp\;elqaid=18120&amp\;elqat=1&amp\;elqCampaignId=#brochure">download </a></span><span style="letter-spacing: 0px\; font-variant-numeric: normal\; font-variant-east-asian: normal\; font-family: &quot\;Century Gothic&quot\;\; vertical-align: baseline\; white-space: pre-wrap\; color: rgb(84\, 84\, 84)\;">the event&rsquo\;s brochure. </span></font></span></font></div>\n\n<div>\n<div>&nbsp\;</div>\n\n<div>\n<div style="font-family: arial\, sans-serif\;"><font style="font-size: 14px\;"><span id="docs-internal-guid-0f4d106c-1c59-9408-a4da-7ccbf66daf41" style="color: rgb(84\, 84\, 84)\;"><font style="font-size: 14px\;"><font face="century gothic\, Helvetica\, sans-serif"><span style="color: rgb(84\, 84\, 84)\;">For assistance in registering\, email us at&nbsp\;</span><a data-targettype="email" href="mailto:asiaevents@economist.com?subject=Re:What%20will%20it%20take%20to%20Indonesia%20to%20become%20an%20innovation-led%20economy?" style="color: rgb(0\, 0\, 238)\;" target="_blank">asiaevents@economist.com</a><span style="color: rgb(84\, 84\, 84)\;">or call Jennifer Winstanley\, our client relations executive on&nbsp\;</span></font><span style="font-family: &quot\;century gothic&quot\;\, Helvetica\, sans-serif\; letter-spacing: 0px\;"><u style="color: rgb(0\, 0\, 238)\;"><a href="tel:+852 2585 3312?utm_campaign=EM3532%20-%20Email%205e%20-%20Partner%20-%20HTML%20-%20Consultancies%20-%20US-ASEAN&amp\;utm_medium=email&amp\;utm_source=Eloqua" style="color: rgb(17\, 85\, 204)\;" target="_blank" value="+85225853312">+852 2585 3312</a></u><span style="color: rgb(84\, 84\, 84)\;">.</span></span></font></span></font></div>\n</div>\n</div>\n</div>\n</div>\n</div>\n
LOCATION:Jakarta\, Indonesia
UID:e.9078.6498
SEQUENCE:3
DTSTAMP:20260419T204027Z
URL:http://usasean.memberzone.com/events/details/the-economist-events-indonesia-summit-2018-6498
END:VEVENT

END:VCALENDAR
