BEGIN:VCALENDAR
VERSION:2.0
PRODID:-//ChamberMaster//Event Calendar 2.0//EN
METHOD:PUBLISH
X-PUBLISHED-TTL:P3D
REFRESH-INTERVAL:P3D
CALSCALE:GREGORIAN
BEGIN:VEVENT
DTSTART:20231019T070000Z
DTEND:20231019T080000Z
X-MICROSOFT-CDO-ALLDAYEVENT:FALSE
SUMMARY:The Business Implications of Sustainability Trends in the Asia Pacific
DESCRIPTION:The Business Implications of Sustainability Trends in the Asia Pacific\nA joint event by Albright Stonebridge Group and the US-ASEAN Business Council\n\n \n\nSustainability is increasingly driving business decisions. Organizations must address the dual imperatives of adhering to local and international sustainability standards while also catering to the growing eco-consciousness of their consumers and investors. From changes in mandatory reporting requirements and debate over developing carbon markets to evolving sustainability driven trade policy agendas\, what growing trends in climate sustainability across the Asia Pacific do organizations need to consider for their operations? Moreover\, what sustainability policies are the United States and leading Asian economies advocating\, and how might this impact the business environment in the Asia-Pacific? Join Albright Stonebridge Group's Washington-Based Managing Partner Dan Rosenthal and ASG Senior Advisor Danielle Yeow to discuss these pressing issues\, moderated by U.S.-ASEAN Business Council Regional Managing Director Amb. Brian D. McFeeters.\n\nLight refreshments will be served.
X-ALT-DESC;FMTTYPE=text/html:<h4 align="center" style="margin:0cm 0cm 12pt\;text-align:center\;line-height:14.2667px\;font-size:10pt\;font-family:Arial\, sans-serif\;color:rgb(0\, 32\, 96)\;"><strong><span style="color:#702082\;"><span style="font-size:16pt\;">The Business Implications of Sustainability Trends in the Asia Pacific</span></span></strong></h4>\n<em><span style="font-family:arial\,sans-serif\;"><span style="font-size:11pt\;">A joint event by&nbsp\;</span></span></em><em><span style="font-family:arial\,sans-serif\;"><span style="font-size:11pt\;">Albright Stonebridge Group and the US-ASEAN Business Council</span></span></em><br />\n&nbsp\;<br />\n<span style="font-family:arial\,sans-serif\;"><span style="font-size:11pt\;">Sustainability is increasingly driving business decisions. Organizations must address the dual imperatives of adhering to local and international sustainability standards while also catering to the growing eco-consciousness of their consumers and investors. From changes in mandatory reporting requirements and debate over developing carbon markets to evolving sustainability driven trade policy agendas\, what growing trends in climate sustainability across the Asia Pacific do organizations need to consider for their operations? Moreover\, what sustainability policies are the United States and leading Asian economies advocating\, and how might this impact the business environment in the Asia-Pacific? Join Albright Stonebridge Group&rsquo\;s Washington-Based Managing Partner Dan Rosenthal and ASG Senior Advisor Danielle Yeow to discuss these pressing issues\, moderated by U.S.-ASEAN Business Council Regional Managing Director Amb. Brian D. McFeeters.</span></span><br />\n<em><span style="font-family:arial\,sans-serif\;"><span style="font-size:11pt\;">Light refreshments will be served.</span></span></em>
LOCATION:Venue: Cargill Singapore\, Capita Green\, 38 Market Street\, Floor 17
UID:e.9078.9183
SEQUENCE:3
DTSTAMP:20260421T160825Z
URL:http://usasean.memberzone.com/events/details/the-business-implications-of-sustainability-trends-in-the-asia-pacific-9183
END:VEVENT

END:VCALENDAR
