BEGIN:VCALENDAR
VERSION:2.0
PRODID:-//ChamberMaster//Event Calendar 2.0//EN
METHOD:PUBLISH
X-PUBLISHED-TTL:P3D
REFRESH-INTERVAL:P3D
CALSCALE:GREGORIAN
BEGIN:VEVENT
DTSTART;VALUE=DATE:20140520
DTEND;VALUE=DATE:20140523
TRANSP:TRANSPARENT
X-MICROSOFT-CDO-ALLDAYEVENT:TRUE
SUMMARY:The Asian Banker Summit 2014
DESCRIPTION:The Asian Banker Summit 2014will be held in Kuala Lumpur\, Malaysia\, one of the strongest banking markets in the region and playing a pivotal role in strengthening regional and international financial integration and developing deep and dynamic financial markets. As the premier financial centre for Islamic banking with a massive focus on global centre of excellence for data centres\, operations and technology\, Malaysia is a suitable venue to consider some of the seismic transformations taking place in the industry today.
X-ALT-DESC;FMTTYPE=text/html:<span style="font-family: Arial\, Helvetica\, sans-serif\; font-size: 12px\; line-height: normal\;">The Asian Banker Summit 2014will be held in Kuala Lumpur\, Malaysia\,</span><strong style="font-family: Arial\, Helvetica\, sans-serif\; font-size: 12px\; line-height: normal\;">&nbsp\;</strong><span style="font-family: Arial\, Helvetica\, sans-serif\; font-size: 12px\; line-height: normal\;">one of the strongest banking markets in the region and playing a pivotal role in strengthening regional and international financial integration and developing deep and dynamic financial markets.&nbsp\;</span><span style="font-family: Arial\, Helvetica\, sans-serif\; font-size: 12px\; line-height: normal\;">As the premier financial centre for Islamic banking with a massive focus on global centre of excellence for data centres\, operations and technology\, Malaysia is a suitable venue to consider some of the seismic transformations taking place in the industry today.</span>
LOCATION:
UID:e.9078.1144
SEQUENCE:3
DTSTAMP:20260420T124159Z
URL:http://usasean.memberzone.com/events/details/the-asian-banker-summit-2014-05-20-2014-1144
END:VEVENT

END:VCALENDAR
