BEGIN:VCALENDAR
VERSION:2.0
PRODID:-//ChamberMaster//Event Calendar 2.0//EN
METHOD:PUBLISH
X-PUBLISHED-TTL:P3D
REFRESH-INTERVAL:P3D
CALSCALE:GREGORIAN
BEGIN:VEVENT
DTSTART:20190820T063000Z
DTEND:20190820T090000Z
X-MICROSOFT-CDO-ALLDAYEVENT:FALSE
SUMMARY:The 3rd Indonesia Quarterly Committee Members Meeting and Focus Group Discussion on Indonesia Personal Data Protection Bill
DESCRIPTION:
X-ALT-DESC;FMTTYPE=text/html:
LOCATION:Ruang Arya dan Bima Mastercard Indonesia Sentral Senayan I\, Lt 6 Jl. Asia Afrika no 8\, Jakarta\, Indonesia
UID:e.9078.7996
SEQUENCE:3
DTSTAMP:20260424T224217Z
URL:http://usasean.memberzone.com/events/details/the-3rd-indonesia-quarterly-committee-members-meeting-and-focus-group-discussion-on-indonesia-personal-data-protection-bill-7996
END:VEVENT

END:VCALENDAR
