BEGIN:VCALENDAR
VERSION:2.0
PRODID:-//ChamberMaster//Event Calendar 2.0//EN
METHOD:PUBLISH
X-PUBLISHED-TTL:P3D
REFRESH-INTERVAL:P3D
CALSCALE:GREGORIAN
BEGIN:VEVENT
DTSTART;VALUE=DATE:20140521
DTEND;VALUE=DATE:20140524
TRANSP:TRANSPARENT
X-MICROSOFT-CDO-ALLDAYEVENT:TRUE
SUMMARY:The 38th IPA Convention & Exhibition
DESCRIPTION:Indonesian Petroleum Association\n\n38th IPA Conventin & Exhibtion\n\n\n\nThe Indonesian Petroleum Association (IPA) Annual Conventions have highlighted the achievements and challenges of Indonesia's oil and gas industry since 1972. The IPA Convention & Exhibition provides an important forum for exchanging knowledge and ideas through interaction among scientists\, engineers\, government officials\, academics\, and other professionals. The contributions of PSC contractors\, service companies\, suppliers\, universities\, and research institutes have been vital to the success of the Convention & Exhibition.\n\n\n\nInvited High-Level Plenary & Special Session Speakers & Panelists:\n\nMr. Susilo Siswoutomo\, Vice Minister of Energy and Mineral Resources of Indonesia\n\nMr. Johannes Widjanarko\, Chairman of SKKMigas\n\nMrs. Karen Agustiawan\, President & CEO of PT Pertamina\n\nMr. Sandy MacMullin\, Executive Director\, Nova Scotia Department of Energy\, Canada\n\nMr. Jean Claude Depail\, Executive VP\, GDF Suez\n\nMr. John G. Rice\, Vice Chairman\, GE\n\nMr. Peter Coleman\, CEO and Managing Director\, Woodside
X-ALT-DESC;FMTTYPE=text/html:Indonesian Petroleum Association<br />\n38th IPA Conventin &amp\; Exhibtion<br />\n<br />\nThe Indonesian Petroleum Association (IPA) Annual Conventions have highlighted the achievements and challenges of Indonesia&#39\;s oil and gas industry since 1972. The IPA Convention &amp\; Exhibition provides an important forum for exchanging knowledge and ideas through interaction among scientists\, engineers\, government officials\, academics\, and other professionals. The contributions of PSC contractors\, service companies\, suppliers\, universities\, and research institutes have been vital to the success of the Convention &amp\; Exhibition.<br />\n<br />\nInvited High-Level Plenary &amp\; Special Session Speakers &amp\; Panelists:<br />\nMr. Susilo Siswoutomo\, Vice Minister of Energy and Mineral Resources of Indonesia<br />\nMr. Johannes Widjanarko\,&nbsp\;Chairman of SKKMigas<br />\nMrs. Karen Agustiawan\, President &amp\; CEO of PT Pertamina<br />\nMr. Sandy MacMullin\, Executive Director\, Nova Scotia Department of Energy\, Canada<br />\nMr. Jean Claude Depail\, Executive VP\, GDF Suez<br />\nMr. John G. Rice\, Vice Chairman\, GE<br />\nMr. Peter Coleman\, CEO and Managing Director\, Woodside<br />\n&nbsp\;
LOCATION:Jakarta Convention Center Jl. Jendral Gatot Subroto Jakarta 10270 Indonesia
UID:e.9078.1141
SEQUENCE:3
DTSTAMP:20260420T123604Z
URL:http://usasean.memberzone.com/events/details/the-38th-ipa-convention-exhibition-05-21-2014-1141
END:VEVENT

END:VCALENDAR
