BEGIN:VCALENDAR
VERSION:2.0
PRODID:-//ChamberMaster//Event Calendar 2.0//EN
METHOD:PUBLISH
X-PUBLISHED-TTL:P3D
REFRESH-INTERVAL:P3D
CALSCALE:GREGORIAN
BEGIN:VEVENT
DTSTART;VALUE=DATE:20191203
DTEND;VALUE=DATE:20191204
TRANSP:TRANSPARENT
X-MICROSOFT-CDO-ALLDAYEVENT:TRUE
SUMMARY:The 2nd Global Forum on Infrastructure Investment: Philippine Series
DESCRIPTION:The 2nd Global Forum on Infrastructure Investment brings together over 200 key infrastructure players in the public and private sectors for a dialogue on how infrastructure investment in the Philippines can further spur the nation's economic growth
X-ALT-DESC;FMTTYPE=text/html:The 2nd Global Forum on Infrastructure Investment brings together over 200 key infrastructure players in the public and private sectors for a dialogue on how infrastructure investment in the Philippines can further spur the nation&#39\;s economic growth&nbsp\;&nbsp\;
LOCATION:The Tent at Solaire\, Solaire Resort & Casino\, Philippines
UID:e.9078.8060
SEQUENCE:3
DTSTAMP:20260424T170954Z
URL:http://usasean.memberzone.com/events/details/the-2nd-global-forum-on-infrastructure-investment-philippine-series-8060
END:VEVENT

END:VCALENDAR
