BEGIN:VCALENDAR
VERSION:2.0
PRODID:-//ChamberMaster//Event Calendar 2.0//EN
METHOD:PUBLISH
X-PUBLISHED-TTL:P3D
REFRESH-INTERVAL:P3D
CALSCALE:GREGORIAN
BEGIN:VEVENT
DTSTART;VALUE=DATE:20181205
DTEND;VALUE=DATE:20181206
TRANSP:TRANSPARENT
X-MICROSOFT-CDO-ALLDAYEVENT:TRUE
SUMMARY:The 1st Asia Pacific LNG Investment Summit Philippines
DESCRIPTION:The Philippines is poised to have a thriving liquefied natural gas (LNG) industry within a few years with a projected capacity of 7 million metric tons annually by 2020. The country\, therefore\, will need big-ticket investments to realize its vision of becoming Southeast Asia's LNG hub.\n\n\n\nThemed FUELING CHANGE. ENERGIZING GROWTH.\, the 1st Asia Pacific LNG Investment Summit Philippines is set to take center stage on 5 December 2018 at the Solaire Grand Ballrooms 2 to 5 in Manila\, Philippines\, to provide its delegates from the most prominent companies participating in LNG related operations a day of knowledge sharing and unparalleled networking and investment opportunities.\n\n\n\nWith an expected turnout of over 300 industry professionals\, the 1st Asia Pacific LNG Investment Summit Philippines - designed to be the country's premier business gathering for chief LNG experts and players from across the region - is committed to deliver thought leadership and high quality audience\, making to this landmark event a superb platform to:\n\n	Connect with potential investors\n	Establish business partnerships\n	Learn from industry leaders and think tanks\n\nBe at the forefront as the 1st Asia Pacific LNG Investment Summit Philippines discusses all that is occurring in the LNG industry\, including:\n\n\n	Analysis and forecasts across all key segments of LNG value chain\n	Key trends on regional and country LNG markets\n	LNG exports and imports projections and comparisons\n	LNG pricing\, short and medium term trade\, project development\, construction status and government support
X-ALT-DESC;FMTTYPE=text/html:The Philippines is poised to have a thriving liquefied natural gas (LNG) industry within a few years with a projected capacity of 7 million metric tons annually by 2020. The country\, therefore\, will need big-ticket investments to realize its vision of becoming Southeast Asia&#39\;s LNG hub.<br />\n<br />\nThemed <strong>FUELING CHANGE. ENERGIZING GROWTH.</strong>\, the <strong>1st Asia Pacific LNG Investment Summit Philippines</strong> is set to take center stage on 5 December 2018 at the Solaire Grand Ballrooms 2 to 5 in Manila\, Philippines\, to provide its delegates from the most prominent companies participating in LNG related operations a day of knowledge sharing and unparalleled networking and investment opportunities.<br />\n<br />\nWith an expected turnout of over 300 industry professionals\, the <strong>1st Asia Pacific LNG Investment Summit Philippines</strong> - designed to be the country&#39\;s premier business gathering for chief LNG experts and players from across the region - is committed to deliver thought leadership and high quality audience\, making to this landmark event a superb platform to:\n<ul>\n	<li>Connect with potential investors</li>\n	<li>Establish business partnerships</li>\n	<li>Learn from industry leaders and think tanks</li>\n</ul>\nBe at the forefront as the <strong>1st Asia Pacific LNG Investment Summit Philippines </strong>discusses all that is occurring in the LNG industry\, including:\n\n<ul>\n	<li>Analysis and forecasts across all key segments of LNG value chain</li>\n	<li>Key trends on regional and country LNG markets</li>\n	<li>LNG exports and imports projections and comparisons</li>\n	<li>LNG pricing\, short and medium term trade\, project development\, construction status and government support</li>\n</ul>\n
LOCATION:Solaire Grand Ballrooms 2 to 5 Solaire Resort and Casino Para aque\, Metro Manila\, Philippines
UID:e.9078.7705
SEQUENCE:3
DTSTAMP:20260425T133245Z
URL:http://usasean.memberzone.com/events/details/the-1st-asia-pacific-lng-investment-summit-philippines-7705
END:VEVENT

END:VCALENDAR
