BEGIN:VCALENDAR
VERSION:2.0
PRODID:-//ChamberMaster//Event Calendar 2.0//EN
METHOD:PUBLISH
X-PUBLISHED-TTL:P3D
REFRESH-INTERVAL:P3D
CALSCALE:GREGORIAN
BEGIN:VEVENT
DTSTART:20191002T010000Z
DTEND:20191002T020000Z
X-MICROSOFT-CDO-ALLDAYEVENT:FALSE
SUMMARY:Sub-Committee on Standards Call
DESCRIPTION:The US-ASEAN Business Council (US-ABC) is pleased to invite you to the initial call of the ASEAN Committee\, Sub-Committee on Standards to discuss the concept\, strategy and plan for industry-led engagement with the ASEAN Consultative Committee on Standards and Quality (ACCSQ) and its relevant working groups.\n\n\n\nThe call will look to further develop our priority areas and modality of engagement with the relevant sectoral working groups\, the specific topics of discussion that industry wishes to raise to ASEAN Member States and set out the strategy and timeline to initiate the engagement.
X-ALT-DESC;FMTTYPE=text/html:<span style="font-size:14px\;"><span style="font-family:arial\;">The US-ASEAN Business Council (US-ABC) is pleased to invite you to the initial call of the ASEAN Committee\, Sub-Committee on Standards to discuss the concept\, strategy and plan for industry-led engagement with the ASEAN Consultative Committee on Standards and Quality (ACCSQ) and its relevant working groups.<br />\n<br />\nThe call will look to further develop our priority areas and modality of engagement with the relevant sectoral working groups\, the specific topics of discussion that industry wishes to raise to ASEAN Member States and set out the strategy and timeline to initiate the engagement.&nbsp\;</span></span>
LOCATION:
UID:e.9078.8030
SEQUENCE:3
DTSTAMP:20260424T195031Z
URL:http://usasean.memberzone.com/events/details/sub-committee-on-standards-call-8030
END:VEVENT

END:VCALENDAR
